BEGIN:VCALENDAR
VERSION:2.0
PRODID:-//Market Square - ECPv6.15.20//NONSGML v1.0//EN
CALSCALE:GREGORIAN
METHOD:PUBLISH
X-ORIGINAL-URL:http://marketsquaresj.com
X-WR-CALDESC:Events for Market Square
REFRESH-INTERVAL;VALUE=DURATION:PT1H
X-Robots-Tag:noindex
X-PUBLISHED-TTL:PT1H
BEGIN:VTIMEZONE
TZID:America/Halifax
BEGIN:DAYLIGHT
TZOFFSETFROM:-0400
TZOFFSETTO:-0300
TZNAME:ADT
DTSTART:20250309T060000
END:DAYLIGHT
BEGIN:STANDARD
TZOFFSETFROM:-0300
TZOFFSETTO:-0400
TZNAME:AST
DTSTART:20251102T050000
END:STANDARD
BEGIN:DAYLIGHT
TZOFFSETFROM:-0400
TZOFFSETTO:-0300
TZNAME:ADT
DTSTART:20260308T060000
END:DAYLIGHT
BEGIN:STANDARD
TZOFFSETFROM:-0300
TZOFFSETTO:-0400
TZNAME:AST
DTSTART:20261101T050000
END:STANDARD
BEGIN:DAYLIGHT
TZOFFSETFROM:-0400
TZOFFSETTO:-0300
TZNAME:ADT
DTSTART:20270314T060000
END:DAYLIGHT
BEGIN:STANDARD
TZOFFSETFROM:-0300
TZOFFSETTO:-0400
TZNAME:AST
DTSTART:20271107T050000
END:STANDARD
END:VTIMEZONE
BEGIN:VEVENT
DTSTART;TZID=America/Halifax:20260104T130000
DTEND;TZID=America/Halifax:20260104T150000
DTSTAMP:20260420T070709
CREATED:20251117T141742Z
LAST-MODIFIED:20251117T141742Z
UID:10038746-1767531600-1767538800@marketsquaresj.com
SUMMARY:Santa Sundays
DESCRIPTION:Kick off the holiday season with a cozy visit to The Write Cup Bookstore Cafe — where Santa himself will be popping in every Sunday from Nov 23 to Dec 21\, 1–3pm! 🎅 \nBring the family or friends and enjoy your favourite warm drinks and treats. It’s the perfect way to add a little magic to your weekend. ✨☕
URL:http://marketsquaresj.com/event/santa-sundays/2026-01-04/
LOCATION:The Write Cup Bookstore Cafe\, Level One
CATEGORIES:Events
ATTACH;FMTTYPE=image/jpeg:http://marketsquaresj.com/wp-content/uploads/2025/11/SantaSunday-Write-Cup.jpg
END:VEVENT
BEGIN:VEVENT
DTSTART;TZID=America/Halifax:20260106T210000
DTEND;TZID=America/Halifax:20260107T003000
DTSTAMP:20260420T070709
CREATED:20230623T122113Z
LAST-MODIFIED:20230623T122113Z
UID:10038245-1767733200-1767745800@marketsquaresj.com
SUMMARY:Open Mic Nights @ McGill's
DESCRIPTION:Open mic nights every Tuesday night! \nShow starts @ 9pm! \nCome out to play or just listen.
URL:http://marketsquaresj.com/event/open-mic-nights-mcgills/2026-01-06/
ATTACH;FMTTYPE=image/png:http://marketsquaresj.com/wp-content/uploads/2023/06/Open-Mic-.png
END:VEVENT
BEGIN:VEVENT
DTSTART;TZID=America/Halifax:20260111T130000
DTEND;TZID=America/Halifax:20260111T150000
DTSTAMP:20260420T070710
CREATED:20251117T141742Z
LAST-MODIFIED:20251117T141742Z
UID:10038747-1768136400-1768143600@marketsquaresj.com
SUMMARY:Santa Sundays
DESCRIPTION:Kick off the holiday season with a cozy visit to The Write Cup Bookstore Cafe — where Santa himself will be popping in every Sunday from Nov 23 to Dec 21\, 1–3pm! 🎅 \nBring the family or friends and enjoy your favourite warm drinks and treats. It’s the perfect way to add a little magic to your weekend. ✨☕
URL:http://marketsquaresj.com/event/santa-sundays/2026-01-11/
LOCATION:The Write Cup Bookstore Cafe\, Level One
CATEGORIES:Events
ATTACH;FMTTYPE=image/jpeg:http://marketsquaresj.com/wp-content/uploads/2025/11/SantaSunday-Write-Cup.jpg
END:VEVENT
BEGIN:VEVENT
DTSTART;TZID=America/Halifax:20260113T210000
DTEND;TZID=America/Halifax:20260114T003000
DTSTAMP:20260420T070710
CREATED:20230623T122113Z
LAST-MODIFIED:20230623T122113Z
UID:10038246-1768338000-1768350600@marketsquaresj.com
SUMMARY:Open Mic Nights @ McGill's
DESCRIPTION:Open mic nights every Tuesday night! \nShow starts @ 9pm! \nCome out to play or just listen.
URL:http://marketsquaresj.com/event/open-mic-nights-mcgills/2026-01-13/
ATTACH;FMTTYPE=image/png:http://marketsquaresj.com/wp-content/uploads/2023/06/Open-Mic-.png
END:VEVENT
BEGIN:VEVENT
DTSTART;TZID=America/Halifax:20260118T130000
DTEND;TZID=America/Halifax:20260118T150000
DTSTAMP:20260420T070710
CREATED:20251117T141742Z
LAST-MODIFIED:20251117T141742Z
UID:10038748-1768741200-1768748400@marketsquaresj.com
SUMMARY:Santa Sundays
DESCRIPTION:Kick off the holiday season with a cozy visit to The Write Cup Bookstore Cafe — where Santa himself will be popping in every Sunday from Nov 23 to Dec 21\, 1–3pm! 🎅 \nBring the family or friends and enjoy your favourite warm drinks and treats. It’s the perfect way to add a little magic to your weekend. ✨☕
URL:http://marketsquaresj.com/event/santa-sundays/2026-01-18/
LOCATION:The Write Cup Bookstore Cafe\, Level One
CATEGORIES:Events
ATTACH;FMTTYPE=image/jpeg:http://marketsquaresj.com/wp-content/uploads/2025/11/SantaSunday-Write-Cup.jpg
END:VEVENT
BEGIN:VEVENT
DTSTART;TZID=America/Halifax:20260120T210000
DTEND;TZID=America/Halifax:20260121T003000
DTSTAMP:20260420T070710
CREATED:20230623T122113Z
LAST-MODIFIED:20230623T122113Z
UID:10038247-1768942800-1768955400@marketsquaresj.com
SUMMARY:Open Mic Nights @ McGill's
DESCRIPTION:Open mic nights every Tuesday night! \nShow starts @ 9pm! \nCome out to play or just listen.
URL:http://marketsquaresj.com/event/open-mic-nights-mcgills/2026-01-20/
ATTACH;FMTTYPE=image/png:http://marketsquaresj.com/wp-content/uploads/2023/06/Open-Mic-.png
END:VEVENT
BEGIN:VEVENT
DTSTART;TZID=America/Halifax:20260125T130000
DTEND;TZID=America/Halifax:20260125T150000
DTSTAMP:20260420T070710
CREATED:20251117T141742Z
LAST-MODIFIED:20251117T141742Z
UID:10038749-1769346000-1769353200@marketsquaresj.com
SUMMARY:Santa Sundays
DESCRIPTION:Kick off the holiday season with a cozy visit to The Write Cup Bookstore Cafe — where Santa himself will be popping in every Sunday from Nov 23 to Dec 21\, 1–3pm! 🎅 \nBring the family or friends and enjoy your favourite warm drinks and treats. It’s the perfect way to add a little magic to your weekend. ✨☕
URL:http://marketsquaresj.com/event/santa-sundays/2026-01-25/
LOCATION:The Write Cup Bookstore Cafe\, Level One
CATEGORIES:Events
ATTACH;FMTTYPE=image/jpeg:http://marketsquaresj.com/wp-content/uploads/2025/11/SantaSunday-Write-Cup.jpg
END:VEVENT
BEGIN:VEVENT
DTSTART;TZID=America/Halifax:20260127T210000
DTEND;TZID=America/Halifax:20260128T003000
DTSTAMP:20260420T070710
CREATED:20230623T122113Z
LAST-MODIFIED:20230623T122113Z
UID:10038248-1769547600-1769560200@marketsquaresj.com
SUMMARY:Open Mic Nights @ McGill's
DESCRIPTION:Open mic nights every Tuesday night! \nShow starts @ 9pm! \nCome out to play or just listen.
URL:http://marketsquaresj.com/event/open-mic-nights-mcgills/2026-01-27/
ATTACH;FMTTYPE=image/png:http://marketsquaresj.com/wp-content/uploads/2023/06/Open-Mic-.png
END:VEVENT
END:VCALENDAR