BEGIN:VCALENDAR
VERSION:2.0
PRODID:-//Market Square - ECPv6.15.20//NONSGML v1.0//EN
CALSCALE:GREGORIAN
METHOD:PUBLISH
X-WR-CALNAME:Market Square
X-ORIGINAL-URL:https://marketsquaresj.com
X-WR-CALDESC:Events for Market Square
REFRESH-INTERVAL;VALUE=DURATION:PT1H
X-Robots-Tag:noindex
X-PUBLISHED-TTL:PT1H
BEGIN:VTIMEZONE
TZID:America/Halifax
BEGIN:DAYLIGHT
TZOFFSETFROM:-0400
TZOFFSETTO:-0300
TZNAME:ADT
DTSTART:20210314T060000
END:DAYLIGHT
BEGIN:STANDARD
TZOFFSETFROM:-0300
TZOFFSETTO:-0400
TZNAME:AST
DTSTART:20211107T050000
END:STANDARD
BEGIN:DAYLIGHT
TZOFFSETFROM:-0400
TZOFFSETTO:-0300
TZNAME:ADT
DTSTART:20220313T060000
END:DAYLIGHT
BEGIN:STANDARD
TZOFFSETFROM:-0300
TZOFFSETTO:-0400
TZNAME:AST
DTSTART:20221106T050000
END:STANDARD
BEGIN:DAYLIGHT
TZOFFSETFROM:-0400
TZOFFSETTO:-0300
TZNAME:ADT
DTSTART:20230312T060000
END:DAYLIGHT
BEGIN:STANDARD
TZOFFSETFROM:-0300
TZOFFSETTO:-0400
TZNAME:AST
DTSTART:20231105T050000
END:STANDARD
BEGIN:DAYLIGHT
TZOFFSETFROM:-0400
TZOFFSETTO:-0300
TZNAME:ADT
DTSTART:20240310T060000
END:DAYLIGHT
BEGIN:STANDARD
TZOFFSETFROM:-0300
TZOFFSETTO:-0400
TZNAME:AST
DTSTART:20241103T050000
END:STANDARD
END:VTIMEZONE
BEGIN:VEVENT
DTSTART;TZID=America/Halifax:20221229T100000
DTEND;TZID=America/Halifax:20230107T180000
DTSTAMP:20260419T173100
CREATED:20221228T143736Z
LAST-MODIFIED:20230105T150739Z
UID:10038034-1672308000-1673114400@marketsquaresj.com
SUMMARY:Samuel & Co. Boxing Day Extended Sale!
DESCRIPTION:December 29th-Jan. 7 – 20% off storewide\nSamuel & Co.’s Boxing Day sale has extended just for you💗 Save an extra 20% off everything\, especially your favourite brands! Shop Charlie B\, Tribal\, Joseph Ribkoff and tons more!\n#lovesamandco \n*Some exclusions may apply. Valid in store Dec. 29 until Jan. 7\, 2023
URL:https://marketsquaresj.com/event/samuel-co-boxing-day-extended-sale/
LOCATION:SAMUEL & CO.
CATEGORIES:Promos
ATTACH;FMTTYPE=image/jpeg:https://marketsquaresj.com/wp-content/uploads/2022/12/Samuel-Co-Boxing-Week-Sale-2022.jpg
END:VEVENT
BEGIN:VEVENT
DTSTART;TZID=America/Halifax:20221208T100000
DTEND;TZID=America/Halifax:20221211T180000
DTSTAMP:20260419T173100
CREATED:20221209T124716Z
LAST-MODIFIED:20221209T173121Z
UID:10038033-1670493600-1670781600@marketsquaresj.com
SUMMARY:Samuel & Co Holiday Sale!
DESCRIPTION:Seasons greetings!\nSave 20-50% off at Samuel & Co. THIS WEEKEND ONLY!\nSave 20% off everything and shop tons of new seasonal markdowns up to 50% off 💛 Plus save the tax on all sale sweaters!\n#lovesamandco \n*Discount applied to regular price. Some exclusions may apply*
URL:https://marketsquaresj.com/event/samuel-co-holiday-sale/
CATEGORIES:Promos,Promos Retail
ATTACH;FMTTYPE=image/jpeg:https://marketsquaresj.com/wp-content/uploads/2022/12/Sam-and-Co-Seasons-Greetings-Promo.jpg
END:VEVENT
BEGIN:VEVENT
DTSTART;TZID=America/Halifax:20221202T170000
DTEND;TZID=America/Halifax:20221202T210000
DTSTAMP:20260419T173100
CREATED:20220809T173936Z
LAST-MODIFIED:20221116T162053Z
UID:10037990-1670000400-1670014800@marketsquaresj.com
SUMMARY:Uptown Sparkles ~ Market Square
DESCRIPTION:Friday\, December 2\, 2022\, from 5:00pm to 9:00pm.\nJoin us at Market Square for holiday cheer\, live music on the stage\, and gift certificate giveaways. \nBring a date\, get some friends together\, or treat your family to this charming Uptown Saint John tradition. Market Square’s unique boutiques and restaurants welcome shoppers with festive specials for all\, including sea glass vendors offering great selections for your holiday shopping. \nUptown Sparkles Website \nUnderground parking available (Saint John Parking Commission). \nSee you there!
URL:https://marketsquaresj.com/event/uptown-sparkles-2022/
CATEGORIES:Events,Promos Restaurants,Promos Retail
ATTACH;FMTTYPE=image/jpeg:https://marketsquaresj.com/wp-content/uploads/2022/08/Facebook-Post.jpg
END:VEVENT
BEGIN:VEVENT
DTSTART;TZID=America/Halifax:20221202T100000
DTEND;TZID=America/Halifax:20221204T180000
DTSTAMP:20260419T173100
CREATED:20221201T143351Z
LAST-MODIFIED:20221201T143351Z
UID:10038030-1669975200-1670176800@marketsquaresj.com
SUMMARY:Samuel & Co. Weekend Sale!
DESCRIPTION:Shop at Samuel & Co. and take 20% off regular price items! Save on tons of your favourite pieces this weekend only 💛\n#lovesamandco\n*Terms and conditions apply. See in store for more details
URL:https://marketsquaresj.com/event/samuel-co-weekend-sale/
CATEGORIES:Promos,Promos Retail
ATTACH;FMTTYPE=image/png:https://marketsquaresj.com/wp-content/uploads/2022/12/samuel-co-dec-2-to-4-sale.png
END:VEVENT
BEGIN:VEVENT
DTSTART;TZID=America/Halifax:20221201T100000
DTEND;TZID=America/Halifax:20221207T180000
DTSTAMP:20260419T173100
CREATED:20221201T143856Z
LAST-MODIFIED:20221201T143856Z
UID:10038031-1669888800-1670436000@marketsquaresj.com
SUMMARY:Samuel & Co ~ Markdowns on Winter Essentials
DESCRIPTION:Tons of new markdowns just arrived at Samuel & Co.!\nShop up to 50% off coats\, jackets\, sweaters & more in store now!💙\n#lovesamandco\n*Terms & conditions apply. See in store for details.
URL:https://marketsquaresj.com/event/samuel-co-markdowns-on-winter-essentials/
CATEGORIES:Promos,Promos Retail
ATTACH;FMTTYPE=image/jpeg:https://marketsquaresj.com/wp-content/uploads/2022/12/samuel-co-Nov-30-to-Dec-7-sale.png.jpg
END:VEVENT
BEGIN:VEVENT
DTSTART;VALUE=DATE:20221201
DTEND;VALUE=DATE:20230101
DTSTAMP:20260419T173100
CREATED:20221201T144021Z
LAST-MODIFIED:20221201T144022Z
UID:10038021-1669852800-1672531199@marketsquaresj.com
SUMMARY:Peppers Pub ~ Take home your favourite beer!
DESCRIPTION:You can now take home any of your favorite beer from Pepper’s Pub tap list. Yes\, you can! Special thanks to Hampton Brewing Co. Ltd. & Long Bay Brewery for helping to get this rolling!
URL:https://marketsquaresj.com/event/peppers-pub-take-home-your-favourite-beer-2/2022-12-01/
CATEGORIES:Promos Restaurants
ATTACH;FMTTYPE=image/jpeg:https://marketsquaresj.com/wp-content/uploads/2022/10/favourite-beer-at-peppers-pub.jpg
END:VEVENT
BEGIN:VEVENT
DTSTART;VALUE=DATE:20221201
DTEND;VALUE=DATE:20221217
DTSTAMP:20260419T173100
CREATED:20221024T190123Z
LAST-MODIFIED:20221228T145820Z
UID:10037984-1669852800-1671235199@marketsquaresj.com
SUMMARY:Five Festive Fridays ~ 2022
DESCRIPTION:Enter for a chance to win one of 5 $500.00 shopping sprees!\nVisit one of Market Square’s many fine shops or restaurants for your ballot to enter (purchase required)\, and drop your ballot off in the ballot box located in the Market Square Atrium.\nEnds December 16th!\nMore details to come. Check back here or on our Facebook page closer to the date. \nDraw dates: Nov. 18th\, 25th\, Dec. 2nd\, 9th and 16th.
URL:https://marketsquaresj.com/event/five-festive-fridays-16-2/
LOCATION:ATRIUM
CATEGORIES:Events,Promos Restaurants,Promos Retail
ATTACH;FMTTYPE=image/jpeg:https://marketsquaresj.com/wp-content/uploads/2018/01/FIVE-FESTIVE-FRIDAYS-0918.jpg
END:VEVENT
BEGIN:VEVENT
DTSTART;TZID=America/Halifax:20221121T090000
DTEND;TZID=America/Halifax:20221121T190000
DTSTAMP:20260419T173100
CREATED:20221017T192446Z
LAST-MODIFIED:20221017T192446Z
UID:10038024-1669021200-1669057200@marketsquaresj.com
SUMMARY:Element5 Spa & Salon BOGO Event
DESCRIPTION:Start planning your Element5 Gift Card purchase because this sale will be ONE DAY ONLY and quantities are limited this year! \nMonday\, November 21st ONLY – 9am – 7pm. In store purchase and phone orders. \nHere’s how it works:\nBuy a (minimum)$250 Element5 Gift Card\, get a (minimum) $250 Element5 BOGO Gift Certificate. Whatever amount you purchase on your gift card ($250+) we will MATCH the same amount on the gift certificate for FREE! \nBOGO Gift Certificates are FREE to use January 2nd\, 2023 – April 30th\, 2023. BOGO Gift Certificates are valid for use on ALL regular priced aesthetic services (laser hair reduction services and packages\, body contouring services and packages\, skin rejuvenation services and packages\, manicures\, pedicures\, nail extensions\, waxing\, sugaring\, lash extensions\, lash lifts & tints\, lash & brow tinting\, facials\, Dermaplaning\, make-up application\, relaxation massage services\, body treatments and all Element5 spa packages). BOGO Gift certificates are not valid on RMT massage services\, hair services\, freelance services (Botox\, filler)\, or retail products. \nAbsolutely NO RESTRICTIONS on the purchased Element5 Gift Cards; use them anytime for any service or retail products and they NEVER expire. \nBOGO Gift Certificate quantities are limited; first come\, first served.
URL:https://marketsquaresj.com/event/element5-spa-salon-bogo-event/
CATEGORIES:Promos Retail
ATTACH;FMTTYPE=image/jpeg:https://marketsquaresj.com/wp-content/uploads/2022/10/Element-5-Spa-BOGO-sale-Nov-21-2022.jpg
END:VEVENT
BEGIN:VEVENT
DTSTART;VALUE=DATE:20221106
DTEND;VALUE=DATE:20221114
DTSTAMP:20260419T173100
CREATED:20221107T185820Z
LAST-MODIFIED:20221107T185820Z
UID:10038029-1667692800-1668383999@marketsquaresj.com
SUMMARY:Pre-Holiday Sale ~ Samuel & Co.
DESCRIPTION:Pre-holiday sale offering 20% off regular prices!\nShop at Samuel & Co. and save 20% off your favourite brands! Save on Tribal\, Charlie B\, Joseph Ribkoff\, Parkhurst and tons more – everything all 20% off! Shop in store now @samuelandco ! Discount applied to regular price. Some exclusions may apply.\n#lovesamandco
URL:https://marketsquaresj.com/event/pre-holiday-sale-samuel-co/
CATEGORIES:Promos
ATTACH;FMTTYPE=image/png:https://marketsquaresj.com/wp-content/uploads/2022/11/Samuel-Co-20-to-50-percent-off-sale.png
END:VEVENT
BEGIN:VEVENT
DTSTART;VALUE=DATE:20221102
DTEND;VALUE=DATE:20221203
DTSTAMP:20260419T173100
CREATED:20221102T133910Z
LAST-MODIFIED:20221102T133910Z
UID:10038027-1667347200-1670025599@marketsquaresj.com
SUMMARY:Leather Dress Sale ~ Samuel & Co.
DESCRIPTION:If wine night with your girlfriends were a dress 🍷…this @josephribkoff faux leather dress would be it!
URL:https://marketsquaresj.com/event/leather-dress-sale-samuel-co/
CATEGORIES:Promos
ATTACH;FMTTYPE=image/jpeg:https://marketsquaresj.com/wp-content/uploads/2022/11/Faux-leather-dress-at-Samuel-Co-Nov-2022-promo.jpg
END:VEVENT
BEGIN:VEVENT
DTSTART;VALUE=DATE:20221101
DTEND;VALUE=DATE:20221102
DTSTAMP:20260419T173100
CREATED:20221003T192541Z
LAST-MODIFIED:20221005T141731Z
UID:10038018-1667260800-1667347199@marketsquaresj.com
SUMMARY:Wing Night!
DESCRIPTION:Every Thursday wings are 60 cents each at Saint John Ale House
URL:https://marketsquaresj.com/event/wing-nights/2022-11-01/
LOCATION:SAINT JOHN ALE HOUSE
CATEGORIES:Promos Restaurants
ATTACH;FMTTYPE=image/jpeg:https://marketsquaresj.com/wp-content/uploads/2022/05/wing-night.jpg
END:VEVENT
BEGIN:VEVENT
DTSTART;VALUE=DATE:20221031
DTEND;VALUE=DATE:20221107
DTSTAMP:20260419T173100
CREATED:20220921T123140Z
LAST-MODIFIED:20220929T164149Z
UID:10037995-1667174400-1667779199@marketsquaresj.com
SUMMARY:Chop Chop Dining Week 2022
DESCRIPTION:Market Square has you covered for food choices any time of the year\, but Chop Chop Week is always special!\nOctober 31 to November 6\, 2022. \nStay tuned on the Chop Chop Website for a list of participating food establishments.
URL:https://marketsquaresj.com/event/chop-chop-dining-week-2022/
CATEGORIES:Events,Promos Restaurants
ATTACH;FMTTYPE=image/jpeg:https://marketsquaresj.com/wp-content/uploads/2022/09/photo-of-food-for-chop-chop.jpg
END:VEVENT
BEGIN:VEVENT
DTSTART;VALUE=DATE:20221017
DTEND;VALUE=DATE:20221101
DTSTAMP:20260419T173100
CREATED:20221017T173743Z
LAST-MODIFIED:20221017T173743Z
UID:10038023-1665964800-1667260799@marketsquaresj.com
SUMMARY:Autumn Check Sale ~ Samuel & Co.
DESCRIPTION:Checkmate! \nSophistication finds its place here on this Alison Sheri piece\, featuring a lively houndstooth print and neat rows of square buttons. This polished style will top off so many of your work week ensembles beautifully! \n#marketsquaresj #lovesamandco
URL:https://marketsquaresj.com/event/autumn-check-sale-samuel-co/
CATEGORIES:Promos Retail
ATTACH;FMTTYPE=image/jpeg:https://marketsquaresj.com/wp-content/uploads/2022/10/Samuel-Co-Oct-sale-photo.jpg
END:VEVENT
BEGIN:VEVENT
DTSTART;VALUE=DATE:20221001
DTEND;VALUE=DATE:20221101
DTSTAMP:20260419T173100
CREATED:20221005T174438Z
LAST-MODIFIED:20221005T174438Z
UID:10038020-1664582400-1667260799@marketsquaresj.com
SUMMARY:Peppers Pub ~ Take home your favourite beer!
DESCRIPTION:You can now take home any of your favorite beer from Pepper’s Pub tap list. Yes\, you can! Special thanks to Hampton Brewing Co. Ltd. & Long Bay Brewery for helping to get this rolling!
URL:https://marketsquaresj.com/event/peppers-pub-take-home-your-favourite-beer/
CATEGORIES:Promos Restaurants
ATTACH;FMTTYPE=image/jpeg:https://marketsquaresj.com/wp-content/uploads/2022/10/favourite-beer-at-peppers-pub.jpg
END:VEVENT
BEGIN:VEVENT
DTSTART;VALUE=DATE:20221001
DTEND;VALUE=DATE:20221101
DTSTAMP:20260419T173100
CREATED:20220913T175730Z
LAST-MODIFIED:20220929T164358Z
UID:10037994-1664582400-1667260799@marketsquaresj.com
SUMMARY:Samuel & Co. ~ Perk Partner Program\, Aquatic Centre
DESCRIPTION:For the month of October 2022\, members of the Canada Games Aquatic Centre receive a 15% discount off merchandise at the Saint John Samuel & Co. location.\n \nSee in store for details on applicable merchandise\, or call: 693-8973 \n#lovesamandco
URL:https://marketsquaresj.com/event/samuel-co-perk-partner-program-aquatic-centre/
CATEGORIES:Promos Retail
ATTACH;FMTTYPE=image/webp:https://marketsquaresj.com/wp-content/uploads/2022/09/samuel-and-co-october-photo.webp
END:VEVENT
BEGIN:VEVENT
DTSTART;VALUE=DATE:20221001
DTEND;VALUE=DATE:20221002
DTSTAMP:20260419T173100
CREATED:20221003T192541Z
LAST-MODIFIED:20221005T141731Z
UID:10038017-1664582400-1664668799@marketsquaresj.com
SUMMARY:Wing Night!
DESCRIPTION:Every Thursday wings are 60 cents each at Saint John Ale House
URL:https://marketsquaresj.com/event/wing-nights/2022-10-01/
LOCATION:SAINT JOHN ALE HOUSE
CATEGORIES:Promos Restaurants
ATTACH;FMTTYPE=image/jpeg:https://marketsquaresj.com/wp-content/uploads/2022/05/wing-night.jpg
END:VEVENT
BEGIN:VEVENT
DTSTART;TZID=America/Halifax:20220927T100000
DTEND;TZID=America/Halifax:20220930T180000
DTSTAMP:20260419T173100
CREATED:20220927T193127Z
LAST-MODIFIED:20220929T164351Z
UID:10037996-1664272800-1664560800@marketsquaresj.com
SUMMARY:Shop Now\, Save Later at Samuel & Co.
DESCRIPTION:Shop now & save later!\n\n\n \n\n\n🌹♥️ FRESH CUTS: shop NEW styles from $59.95! \n\n\n \n\n\nMust spend $150 or more before September 30th to receive coupon! \n\n\n \n\n\n#lovesamandco
URL:https://marketsquaresj.com/event/shop-now-save-later-at-samuel-co/
CATEGORIES:Promos Retail
ATTACH;FMTTYPE=image/png:https://marketsquaresj.com/wp-content/uploads/2022/09/sam.png
END:VEVENT
BEGIN:VEVENT
DTSTART;VALUE=DATE:20220904
DTEND;VALUE=DATE:20221001
DTSTAMP:20260419T173100
CREATED:20220809T173309Z
LAST-MODIFIED:20220929T164345Z
UID:10037989-1662249600-1664582399@marketsquaresj.com
SUMMARY:Samuel & Co. SALE:  UP TO 75% OFF!
DESCRIPTION:SEASONAL Sale 😍\nShop a huge selection of seasonal items now up to 75% off!\nSelect merchandise.  Selection varies per location.  See in store for more details.\n#lovesamandco
URL:https://marketsquaresj.com/event/samuel-co-summer-sales-days/
CATEGORIES:Promos Retail
ATTACH;FMTTYPE=image/jpeg:https://marketsquaresj.com/wp-content/uploads/2022/08/SAM-75-GRAPHICS-2022.jpg
END:VEVENT
BEGIN:VEVENT
DTSTART;VALUE=DATE:20220901
DTEND;VALUE=DATE:20220902
DTSTAMP:20260419T173100
CREATED:20221003T192541Z
LAST-MODIFIED:20221005T141731Z
UID:10038019-1661990400-1662076799@marketsquaresj.com
SUMMARY:Wing Night!
DESCRIPTION:Every Thursday wings are 60 cents each at Saint John Ale House
URL:https://marketsquaresj.com/event/wing-nights/2022-09-01/
LOCATION:SAINT JOHN ALE HOUSE
CATEGORIES:Promos Restaurants
ATTACH;FMTTYPE=image/jpeg:https://marketsquaresj.com/wp-content/uploads/2022/05/wing-night.jpg
END:VEVENT
BEGIN:VEVENT
DTSTART;VALUE=DATE:20220615
DTEND;VALUE=DATE:20220626
DTSTAMP:20260419T173100
CREATED:20220615T150414Z
LAST-MODIFIED:20220929T164237Z
UID:10037983-1655251200-1656201599@marketsquaresj.com
SUMMARY:Summer is Coming\, at Samuel & Co.!
DESCRIPTION:Samuel & Co. is offering TAX-FREE off Dresses from June 15th-25th!\nSee in store for details\, some exclusions apply.  
URL:https://marketsquaresj.com/event/summer-is-coming-at-samuel-co/
CATEGORIES:Events,Promos Retail
ATTACH;FMTTYPE=image/jpeg:https://marketsquaresj.com/wp-content/uploads/2022/06/Samuel-Co-tax-free-dresses-jun-15-to-25-2022.jpg
END:VEVENT
BEGIN:VEVENT
DTSTART;TZID=America/Halifax:20220612T110000
DTEND;TZID=America/Halifax:20220612T130000
DTSTAMP:20260419T173100
CREATED:20220525T123159Z
LAST-MODIFIED:20220929T164143Z
UID:10037977-1655031600-1655038800@marketsquaresj.com
SUMMARY:World Pride Drag Brunch
DESCRIPTION:It’s World Pride Month (June) and while it’s FAR TOO COLD to have actual pride in this month\, we’re having a mini celebration of our own!\nWe’re coming back at you with another Brunch-tacular event at the Saint John Ale House featuring The King of NB – Justin Toodeep!\nOf course what brunch would be complete without a host of drag hotties to spice up your morning?\nFeaturing:\nDia Monde\, Jewel of Saint John\nEqui Knox\, The Brunch Queen of Moncton\nand For the very first time ever Goldie Cox – The Buxom Farm Girl of Sussex\nYou’ll be treated to an epic drag show and a DELICIOUS EXCLUSIVE menu of treats cooked up by the sublime chefs of the SJAH.\nOur Menu features some items you won’t find at any other time at SJAH\, so this is the ONLY way to try them!\nTickets are $45.00 Each and VERY limited\, we sold out in 4 days last time!\nTickets can only be booked by e-mailing h2dproductions@justintoodeep.com.\nOur show allows audience members of all ages (including babies!) but viewer discretion is advised!\nDon’t delay\, snatch those tickets and come slay with us on Sunday\, June 12th!\n\nMenu:\nChicken & Waffles: Chicken Tenders ravaged in our Maple realness\, bacon\, gayoli and Armdale Cheddar on toasty waffles with a side of home fries.\nBreakfabulous Poutine (Justin and Dia’s Favourite):\nCrispy Tater tots tossed in our sexy butt rub\, Armdale Cheese curds\, Hollandaise\, Sausage\, Bacon and Green Onions\nSissy that Guac (VEG):\nHouse made Sourdough bread with Avocado\, lemony greens\, feta hickory smoked almonds\, house made sassy hot sauce\nBreakfast BELT Sandwich:\nToasted Onion Bun\, Gayoli\, Lettuce\, Tomato\, Bacon\, Armdale Cheddar\, Home Fries\nWafflecado Sandi\nCrispy Avocado\, Maple Realness\, Spicy Mayo\, Greens\, Tomato\, Cheese\, Bacon on a toasty waffle with a side of home fries.\nMissionary Style Breakfast:\n2 Eggs\, Sausage\, Bacon\, Sourdough Toast\, Home Fries
URL:https://marketsquaresj.com/event/world-pride-drag-brunch/
LOCATION:SAINT JOHN ALE HOUSE
CATEGORIES:Events,Promos Restaurants
ATTACH;FMTTYPE=image/jpeg:https://marketsquaresj.com/wp-content/uploads/2022/05/281717674_400026838802042_4100755098702709110_n.jpg
END:VEVENT
BEGIN:VEVENT
DTSTART;VALUE=DATE:20220608
DTEND;VALUE=DATE:20220701
DTSTAMP:20260419T173100
CREATED:20220608T125622Z
LAST-MODIFIED:20220929T164333Z
UID:10037981-1654646400-1656633599@marketsquaresj.com
SUMMARY:Samuel & Co. - Fresh & Fun Lois Jacket Sale!
DESCRIPTION:The Lois Jacket is our top pick for a fresh and fun summer look!\nAvailable now in stores\, and comes in multiple colours 🌸💗 only $79.99!\n#lovesamandco
URL:https://marketsquaresj.com/event/14012/
CATEGORIES:Promos Retail
ATTACH;FMTTYPE=image/jpeg:https://marketsquaresj.com/wp-content/uploads/2022/06/Samuel-Co-Lois-Jacket-sale-Jun-8-2022.jpg
END:VEVENT
BEGIN:VEVENT
DTSTART;VALUE=DATE:20220530
DTEND;VALUE=DATE:20220614
DTSTAMP:20260419T173100
CREATED:20220517T135516Z
LAST-MODIFIED:20220929T164327Z
UID:10037970-1653868800-1655164799@marketsquaresj.com
SUMMARY:Samuel & Co 50% Mid Season Sale
DESCRIPTION:Mid-Season Sale Alert! Save up to 50% off select merchandise at Samuel & Co. See in-store for details.
URL:https://marketsquaresj.com/event/samuel-co-50-mid-season-sale/
LOCATION:SAMUEL & CO.
CATEGORIES:Promos Retail
ATTACH;FMTTYPE=image/png:https://marketsquaresj.com/wp-content/uploads/2022/05/sam-logo.png
END:VEVENT
BEGIN:VEVENT
DTSTART;VALUE=DATE:20220529
DTEND;VALUE=DATE:20220630
DTSTAMP:20260419T173100
CREATED:20220530T175444Z
LAST-MODIFIED:20220929T164230Z
UID:10037978-1653782400-1656547199@marketsquaresj.com
SUMMARY:Samuel & Co. New Arrivals!
DESCRIPTION:Frill moment 💛✨ new spring styles like dresses\, skirts\, shorts & more now in store! #lovesamandco
URL:https://marketsquaresj.com/event/samuel-co-new-arrivals/
CATEGORIES:Events,Promos Retail
ATTACH;FMTTYPE=image/png:https://marketsquaresj.com/wp-content/uploads/2022/05/samuel-co-may-30-promo-photo.png
END:VEVENT
BEGIN:VEVENT
DTSTART;TZID=America/Halifax:20220520T220000
DTEND;TZID=America/Halifax:20220521T020000
DTSTAMP:20260419T173100
CREATED:20220520T141823Z
LAST-MODIFIED:20220929T164136Z
UID:10037976-1653084000-1653098400@marketsquaresj.com
SUMMARY:Inspire Festival at Pepper's Pub
DESCRIPTION:Inspire Festival Summer Tour 2022 presents a wonderful night of music and live art on Friday May.20th at Peppers Pub featuring Kylie Fox\, Dumpster Cub\, DJ LU\, Midas Well Creations\, and Lola. In celebration of the return to live music and art this show will be FREE! Join us for a great night!
URL:https://marketsquaresj.com/event/inspire-festival-at-peppers-pub/
CATEGORIES:Events,Promos Restaurants
ATTACH;FMTTYPE=image/jpeg:https://marketsquaresj.com/wp-content/uploads/2022/05/279512150_3271654449745633_8380692975255809510_n.jpg
END:VEVENT
BEGIN:VEVENT
DTSTART;VALUE=DATE:20220520
DTEND;VALUE=DATE:20220601
DTSTAMP:20260419T173100
CREATED:20220520T132000Z
LAST-MODIFIED:20220929T164300Z
UID:10037975-1653004800-1654041599@marketsquaresj.com
SUMMARY:McGill's - Now Hiring!
DESCRIPTION:“We are hiring! Currently looking for our summer #mcgillssj crew! Please share this post and come visit us with a resume and cover letter. Can’t wait for patio season!” – McGills
URL:https://marketsquaresj.com/event/mcgills-now-hiring/
CATEGORIES:Promos Restaurants
ATTACH;FMTTYPE=image/jpeg:https://marketsquaresj.com/wp-content/uploads/2022/05/280645956_1640306149677977_532565507354112556_n-1.jpg
END:VEVENT
BEGIN:VEVENT
DTSTART;VALUE=DATE:20220519
DTEND;VALUE=DATE:20220606
DTSTAMP:20260419T173100
CREATED:20220519T114112Z
LAST-MODIFIED:20220929T164253Z
UID:10037973-1652918400-1654473599@marketsquaresj.com
SUMMARY:Fiddleheads at Saint John Ale House
DESCRIPTION:“Crispy butter milk fiddleheads are back! This is a game changer\, get em while we have em!” – Saint John Ale House
URL:https://marketsquaresj.com/event/fiddleheads-at-saint-john-ale-house/
LOCATION:SAINT JOHN ALE HOUSE
CATEGORIES:Promos Restaurants
ATTACH;FMTTYPE=image/jpeg:https://marketsquaresj.com/wp-content/uploads/2022/05/fiddle-heads-ale-house.jpg
END:VEVENT
BEGIN:VEVENT
DTSTART;VALUE=DATE:20220517
DTEND;VALUE=DATE:20220601
DTSTAMP:20260419T173100
CREATED:20220517T141249Z
LAST-MODIFIED:20220929T164321Z
UID:10037971-1652745600-1654041599@marketsquaresj.com
SUMMARY:Morin Soaps **new scents alert**
DESCRIPTION:Two new body spray scents in Ginger Lime & Black Raspberry Vanilla are now available for purchase on our website at www.morinsoaps.com or at our shop in market square.
URL:https://marketsquaresj.com/event/morin-soaps-new-scent-alert/
LOCATION:Morin Soaps
CATEGORIES:Promos Retail
ATTACH;FMTTYPE=image/jpeg:https://marketsquaresj.com/wp-content/uploads/2022/05/PXL_20220517_135810518-scaled-e1652796734827.jpg
END:VEVENT
BEGIN:VEVENT
DTSTART;VALUE=DATE:20220502
DTEND;VALUE=DATE:20220509
DTSTAMP:20260419T173100
CREATED:20220504T114817Z
LAST-MODIFIED:20220929T164127Z
UID:10037966-1651449600-1652054399@marketsquaresj.com
SUMMARY:Uptown Burger Week
DESCRIPTION:Visit Uptown Saint John from May 2 to 8 2022 & enjoy some creative burgers from 19 participating restaurants!\nThis event is organized by Uptown Saint John Business Improvement Association and is one of the many events hosted throughout the year as a part of Uptown Saint John Eats!\nFollow us at Uptown Saint John Eats on Instagram @UptownSjEATS and Facebook @UptownSjEATS This is where we will be featuring all the Uptown Saint John BIA organized food & drink events throughout the year!\n\nClick the link below to find the full list of participating restaurants & we will be posting the menus as they come in! \n\nhttps://uptownsj.com/blog/2022/03/25/uptown-burger-week/
URL:https://marketsquaresj.com/event/uptown-burger-week-4/
CATEGORIES:Events,Promos Restaurants
END:VEVENT
BEGIN:VEVENT
DTSTART;VALUE=DATE:20220427
DTEND;VALUE=DATE:20220428
DTSTAMP:20260419T173100
CREATED:20220208T134406Z
LAST-MODIFIED:20220929T164203Z
UID:10037956-1651017600-1651103999@marketsquaresj.com
SUMMARY:Administrative Professionals Day
DESCRIPTION:Wednesday\, April 27th\, 2022.\nCelebrate your office support person with something special from Market Square. A spa treatment\, quality handbags\, stylish clothes and accessories\, bath products to pamper and soothe\, or a meal at the restaurants. Even shop online at the NB Museum Gift Shop!\nSee individual listings in the Market Square Directory for contact and hours information.\nShow them you appreciate them !
URL:https://marketsquaresj.com/event/administrative-professionals-day-2/
CATEGORIES:Events,Promos Restaurants,Promos Retail
ATTACH;FMTTYPE=image/jpeg:https://marketsquaresj.com/wp-content/uploads/2022/02/Administrative-professionals-day-2.jpg
END:VEVENT
END:VCALENDAR