BEGIN:VCALENDAR
VERSION:2.0
PRODID:-//Market Square - ECPv6.15.20//NONSGML v1.0//EN
CALSCALE:GREGORIAN
METHOD:PUBLISH
X-WR-CALNAME:Market Square
X-ORIGINAL-URL:https://marketsquaresj.com
X-WR-CALDESC:Events for Market Square
REFRESH-INTERVAL;VALUE=DURATION:PT1H
X-Robots-Tag:noindex
X-PUBLISHED-TTL:PT1H
BEGIN:VTIMEZONE
TZID:America/Halifax
BEGIN:DAYLIGHT
TZOFFSETFROM:-0400
TZOFFSETTO:-0300
TZNAME:ADT
DTSTART:20210314T060000
END:DAYLIGHT
BEGIN:STANDARD
TZOFFSETFROM:-0300
TZOFFSETTO:-0400
TZNAME:AST
DTSTART:20211107T050000
END:STANDARD
BEGIN:DAYLIGHT
TZOFFSETFROM:-0400
TZOFFSETTO:-0300
TZNAME:ADT
DTSTART:20220313T060000
END:DAYLIGHT
BEGIN:STANDARD
TZOFFSETFROM:-0300
TZOFFSETTO:-0400
TZNAME:AST
DTSTART:20221106T050000
END:STANDARD
BEGIN:DAYLIGHT
TZOFFSETFROM:-0400
TZOFFSETTO:-0300
TZNAME:ADT
DTSTART:20230312T060000
END:DAYLIGHT
BEGIN:STANDARD
TZOFFSETFROM:-0300
TZOFFSETTO:-0400
TZNAME:AST
DTSTART:20231105T050000
END:STANDARD
BEGIN:DAYLIGHT
TZOFFSETFROM:-0400
TZOFFSETTO:-0300
TZNAME:ADT
DTSTART:20240310T060000
END:DAYLIGHT
BEGIN:STANDARD
TZOFFSETFROM:-0300
TZOFFSETTO:-0400
TZNAME:AST
DTSTART:20241103T050000
END:STANDARD
BEGIN:DAYLIGHT
TZOFFSETFROM:-0400
TZOFFSETTO:-0300
TZNAME:ADT
DTSTART:20250309T060000
END:DAYLIGHT
BEGIN:STANDARD
TZOFFSETFROM:-0300
TZOFFSETTO:-0400
TZNAME:AST
DTSTART:20251102T050000
END:STANDARD
END:VTIMEZONE
BEGIN:VEVENT
DTSTART;TZID=America/Halifax:20240516T160000
DTEND;TZID=America/Halifax:20240516T220000
DTSTAMP:20260421T051348
CREATED:20230712T120418Z
LAST-MODIFIED:20240514T153424Z
UID:10038645-1715875200-1715896800@marketsquaresj.com
SUMMARY:Wing Night @ Saint John Ale House
DESCRIPTION:It’s wing time baby! Thursday’s beginning at 4pm!\nOnly .60 cents a wing\, come on down to Saint John Ale House!
URL:https://marketsquaresj.com/event/wing-night-saint-john-ale-house-2/
CATEGORIES:Promos,Promos Restaurants
ATTACH;FMTTYPE=image/png:https://marketsquaresj.com/wp-content/uploads/2023/07/SJAH-Thursday.png
END:VEVENT
BEGIN:VEVENT
DTSTART;TZID=America/Halifax:20240514T160000
DTEND;TZID=America/Halifax:20240514T220000
DTSTAMP:20260421T051348
CREATED:20230712T120204Z
LAST-MODIFIED:20240514T153532Z
UID:10038644-1715702400-1715724000@marketsquaresj.com
SUMMARY:Flight Day @ Saint John Ale House
DESCRIPTION:Tuesday is Flight Day @ Saint John Ale House 🍻 Starts at 4pm and only 8$\, bring your friends!
URL:https://marketsquaresj.com/event/flight-day-saint-john-ale-house/
CATEGORIES:Promos,Promos Restaurants
ATTACH;FMTTYPE=image/png:https://marketsquaresj.com/wp-content/uploads/2023/07/SJAH-Tuesday-1.png
END:VEVENT
BEGIN:VEVENT
DTSTART;TZID=America/Halifax:20240513T170000
DTEND;TZID=America/Halifax:20240513T220000
DTSTAMP:20260421T051348
CREATED:20230704T130028Z
LAST-MODIFIED:20240514T153558Z
UID:10038376-1715619600-1715637600@marketsquaresj.com
SUMMARY:Wine Night @ Saint John Ale House
DESCRIPTION:Make Mondays your new favorite day of the week at our Wine Night! $20 starting at 5pm @ Saint John Ale House!
URL:https://marketsquaresj.com/event/%f0%9f%91%8f%f0%9f%8f%bb20-bottles-every-monday-starting-at-5pm/
CATEGORIES:Promos,Promos Restaurants
ATTACH;FMTTYPE=image/png:https://marketsquaresj.com/wp-content/uploads/2023/07/SJAH-Monday.png
END:VEVENT
BEGIN:VEVENT
DTSTART;TZID=America/Halifax:20240512T210000
DTEND;TZID=America/Halifax:20240512T230000
DTSTAMP:20260421T051348
CREATED:20230712T120643Z
LAST-MODIFIED:20240507T132612Z
UID:10038646-1715547600-1715554800@marketsquaresj.com
SUMMARY:BOGO Sunday's @ Saint John Ale House
DESCRIPTION:BOGO drinks every Sunday night starting at 9pm!
URL:https://marketsquaresj.com/event/1-2-price-taps-high-balls-and-on-glasses-of-wine-every-sunday/
CATEGORIES:Events,Promos,Promos Restaurants
ATTACH;FMTTYPE=image/jpeg:https://marketsquaresj.com/wp-content/uploads/2023/07/SJAH-BOGO-Sunday.jpg
END:VEVENT
BEGIN:VEVENT
DTSTART;TZID=America/Halifax:20240510T230000
DTEND;TZID=America/Halifax:20240511T000000
DTSTAMP:20260421T051348
CREATED:20230714T174250Z
LAST-MODIFIED:20240507T132715Z
UID:10038651-1715382000-1715385600@marketsquaresj.com
SUMMARY:Grannan's Power Hour!
DESCRIPTION:🍻 Power Hour ‣ 2 for 1 Drink Special – Friday & Saturday 11pm – 12am
URL:https://marketsquaresj.com/event/grannans-power-hour/
CATEGORIES:Events,Promos,Promos Restaurants
ATTACH;FMTTYPE=image/png:https://marketsquaresj.com/wp-content/uploads/2023/07/Grannans-Fri_Sat-2.png
END:VEVENT
BEGIN:VEVENT
DTSTART;TZID=America/Halifax:20240510T150000
DTEND;TZID=America/Halifax:20240511T180000
DTSTAMP:20260421T051348
CREATED:20231130T151910Z
LAST-MODIFIED:20240507T132739Z
UID:10038669-1715353200-1715450400@marketsquaresj.com
SUMMARY:Buck A Shuck @ Grannan's Seafood & Grill
DESCRIPTION:Buck A Shuck Special ‣ Get our Fresh Atlantic Oysters for just $1 each. \nFriday & Saturday Starting from 3pm till 6pm!
URL:https://marketsquaresj.com/event/buck-a-shuck-grannans-seafood-grill-copy-2/
CATEGORIES:Events,Promos,Promos Restaurants
ATTACH;FMTTYPE=image/png:https://marketsquaresj.com/wp-content/uploads/2023/11/Grannans-Fri_Sat.png
END:VEVENT
BEGIN:VEVENT
DTSTART;TZID=America/Halifax:20240510T080000
DTEND;TZID=America/Halifax:20240511T170000
DTSTAMP:20260421T051348
CREATED:20230905T175926Z
LAST-MODIFIED:20240507T132808Z
UID:10038662-1715328000-1715446800@marketsquaresj.com
SUMMARY:Grannan's Slow Roasted Prime Rib
DESCRIPTION:Grannan’s Slow Roasted Prime Rib is expertly slow roasted to tender perfection. Served with russet mashed potatoes\, market fresh vegetables\, and savory rosemary jus. Available Thursday to Saturday after 5pm! 🥩🍽️
URL:https://marketsquaresj.com/event/grannans-slow-roasted-prime-rib/
CATEGORIES:Events,Promos,Promos Restaurants
ATTACH;FMTTYPE=image/jpeg:https://marketsquaresj.com/wp-content/uploads/2023/09/Grannans-ThursSat.jpg
END:VEVENT
BEGIN:VEVENT
DTSTART;TZID=America/Halifax:20240429T080000
DTEND;TZID=America/Halifax:20240505T170000
DTSTAMP:20260421T051348
CREATED:20240418T183054Z
LAST-MODIFIED:20240418T185023Z
UID:10038676-1714377600-1714928400@marketsquaresj.com
SUMMARY:Uptown Burger Week!
DESCRIPTION:Get ready to have your taste buds tantalized and your cravings satisfied because our restaurants here at Market Square are gearing up to bring you an unforgettable experience during Uptown Burger Week! \nFrom April 29th to May 5th\, join us in celebrating 10 years of burgers and indulge in the deliciously creative burger creations that our talented and amazing chefs have prepared exclusively for Uptown Burger Week. \nDon’t miss out on this mouthwatering celebration! Don’t forget to take some pictures of your creations and tag the restaurant on your socials – See you there! 🍔
URL:https://marketsquaresj.com/event/uptown-burger-week-2/
CATEGORIES:Events,Promos,Promos Restaurants
ATTACH;FMTTYPE=image/png:https://marketsquaresj.com/wp-content/uploads/2024/04/Burger-Week-1.png
END:VEVENT
BEGIN:VEVENT
DTSTART;TZID=America/Halifax:20240226T080000
DTEND;TZID=America/Halifax:20240303T170000
DTSTAMP:20260421T051348
CREATED:20231024T182439Z
LAST-MODIFIED:20240222T161537Z
UID:10038664-1708934400-1709485200@marketsquaresj.com
SUMMARY:Taco Week!
DESCRIPTION:Mmmmmm! Tacos! \nTaco Week starts at Market Square February 26th to March 3rd. \nMake sure to stop into our participating restaurants during this awesome taco filled week to try some tasty creations. \nParticipating Restaurants: \nLemongrass Thai Fare\nGrannan’s Seafood & Grill\nSaint John Ale House\nToro Taco\nBarred Rock \nTaco Week 2024 starts Feb 26th and goes until March 3rd!
URL:https://marketsquaresj.com/event/chop-chop-restaurant-week-market-square/
CATEGORIES:Events,Promos,Promos Restaurants
ATTACH;FMTTYPE=image/jpeg:https://marketsquaresj.com/wp-content/uploads/2023/10/Taco-Week-.jpg
END:VEVENT
BEGIN:VEVENT
DTSTART;TZID=America/Halifax:20231110T150000
DTEND;TZID=America/Halifax:20231111T180000
DTSTAMP:20260421T051348
CREATED:20230905T155744Z
LAST-MODIFIED:20231106T161208Z
UID:10038661-1699628400-1699725600@marketsquaresj.com
SUMMARY:Buck A Shuck @ Grannan's Seafood & Grill
DESCRIPTION:Buck A Shuck Special ‣ Get our Fresh Atlantic Oysters for just $1 each. \nFriday & Saturday Starting from 3pm till 6pm!
URL:https://marketsquaresj.com/event/buck-a-shuck-grannans-seafood-grill/
CATEGORIES:Events,Promos,Promos Restaurants
ATTACH;FMTTYPE=image/png:https://marketsquaresj.com/wp-content/uploads/2023/09/socials-60.png
END:VEVENT
BEGIN:VEVENT
DTSTART;TZID=America/Halifax:20230716T170000
DTEND;TZID=America/Halifax:20230716T220000
DTSTAMP:20260421T051348
CREATED:20230712T115934Z
LAST-MODIFIED:20230712T115934Z
UID:10038643-1689526800-1689544800@marketsquaresj.com
SUMMARY:Wine Night @ Saint John Ale House
DESCRIPTION:👏🏻$20 bottles every Monday starting at 5pm!
URL:https://marketsquaresj.com/event/wine-night-saint-john-ale-house/
CATEGORIES:Events,Promos,Promos Restaurants,Promos Retail
ATTACH;FMTTYPE=image/png:https://marketsquaresj.com/wp-content/uploads/2023/07/Saint-John-Ale-House-bottles-Monday-.png
END:VEVENT
BEGIN:VEVENT
DTSTART;TZID=America/Halifax:20230711T160000
DTEND;TZID=America/Halifax:20230711T220000
DTSTAMP:20260421T051348
CREATED:20230705T142431Z
LAST-MODIFIED:20230705T142448Z
UID:10038638-1689091200-1689112800@marketsquaresj.com
SUMMARY:$8 flights of beer and incredible food options every Tuesday @ SJAH
DESCRIPTION:On Tuesdays\, You can Sip\, savor\, and save! $8 flights of beer and incredible food options for you and your crew. 🍻\nCome on by the Saint John Ale House
URL:https://marketsquaresj.com/event/8-flights-of-beer-and-incredible-food-options-every-tuesday-sjah/
CATEGORIES:Events,Promos,Promos Restaurants
ATTACH;FMTTYPE=image/png:https://marketsquaresj.com/wp-content/uploads/2023/07/Flights-.png
END:VEVENT
BEGIN:VEVENT
DTSTART;TZID=America/Halifax:20230709T210000
DTEND;TZID=America/Halifax:20230709T220000
DTSTAMP:20260421T051348
CREATED:20230705T143156Z
LAST-MODIFIED:20230705T143922Z
UID:10038640-1688936400-1688940000@marketsquaresj.com
SUMMARY:1/2 Price taps \,high balls and on glasses of wine every Sunday @ SJAH
DESCRIPTION:👏🏻TREAT YO’SELF! Join us for a great meal and drinks!\n💕1/2 Price taps \,high balls and on glasses of wine every Sunday starting at 9 PM!
URL:https://marketsquaresj.com/event/1-2-price-taps-high-balls-and-on-glasses-of-wine-every-sunday-sjah/
CATEGORIES:Events,Promos,Promos Restaurants
ATTACH;FMTTYPE=image/png:https://marketsquaresj.com/wp-content/uploads/2023/07/Sunday-promo-.png
END:VEVENT
BEGIN:VEVENT
DTSTART;TZID=America/Halifax:20230708T113000
DTEND;TZID=America/Halifax:20230709T150000
DTSTAMP:20260421T051348
CREATED:20230705T180556Z
LAST-MODIFIED:20230705T180556Z
UID:10038642-1688815800-1688914800@marketsquaresj.com
SUMMARY:Grannan's Seafood & Grill's got a breakfast worth getting out of bed for!
DESCRIPTION:Rise and shine!\nSit down to a plate full of our farm-fresh eggs\, crispy bacon\, tender potatoes\, delightful strawberry jam with butter\, and mouthwatering Texas toast for just 14.95! 🥓🍽️\nAvailable every Saturday and Sunday from 11:30am to 3pm
URL:https://marketsquaresj.com/event/grannans-seafood-grills-got-a-breakfast-worth-getting-out-of-bed-for/
CATEGORIES:Events,Promos,Promos Restaurants
ATTACH;FMTTYPE=image/png:https://marketsquaresj.com/wp-content/uploads/2023/07/Grannans.png
END:VEVENT
BEGIN:VEVENT
DTSTART;TZID=America/Halifax:20230706T160000
DTEND;TZID=America/Halifax:20230706T170000
DTSTAMP:20260421T051348
CREATED:20230705T142642Z
LAST-MODIFIED:20230705T143739Z
UID:10038639-1688659200-1688662800@marketsquaresj.com
SUMMARY:Wing Night @ Saint John Ale House
DESCRIPTION:It’s wing time baby! Beginning at 4 PM! 👌🏻😎\nOnly .60 cents a wing\, come on down! Thursdays @ SJAH\nBring your crew in today and hang with us!
URL:https://marketsquaresj.com/event/wing-night-saint-john-ale-house/
CATEGORIES:Events,Promos,Promos Restaurants
ATTACH;FMTTYPE=image/png:https://marketsquaresj.com/wp-content/uploads/2023/07/Wing-Thursday-.png
END:VEVENT
BEGIN:VEVENT
DTSTART;TZID=America/Halifax:20230704T210000
DTEND;TZID=America/Halifax:20230705T003000
DTSTAMP:20260421T051348
CREATED:20230623T122159Z
LAST-MODIFIED:20230704T163134Z
UID:10038113-1688504400-1688517000@marketsquaresj.com
SUMMARY:Open Mic Nights @ McGill's
DESCRIPTION:Open mic nights every Tuesday night! \nShow starts @ 9pm! \nCome out to play or just listen.
URL:https://marketsquaresj.com/event/open-mic-nights-mcgills-2/
CATEGORIES:Events,Promos Restaurants
ATTACH;FMTTYPE=image/png:https://marketsquaresj.com/wp-content/uploads/2023/06/Open-Mic-.png
END:VEVENT
BEGIN:VEVENT
DTSTART;TZID=America/Halifax:20230704T160000
DTEND;TZID=America/Halifax:20230704T220000
DTSTAMP:20260421T051348
CREATED:20230704T163549Z
LAST-MODIFIED:20230704T163712Z
UID:10038637-1688486400-1688508000@marketsquaresj.com
SUMMARY:It’s Tuesday and that means flight day! Starts at 4 PM and only 8$ @ Saint John Ale House!
DESCRIPTION:on Tuesdays\, You can Sip\, savor\, and save! $8 flights of beer and incredible food options for you and your crew. 🍻\nCome on by the Saint John Ale House.
URL:https://marketsquaresj.com/event/its-tuesday-and-that-means-flight-day-starts-at-4-pm-and-only-8-saint-john-ale-house/
CATEGORIES:Events,Promos,Promos Restaurants
ATTACH;FMTTYPE=image/png:https://marketsquaresj.com/wp-content/uploads/2023/07/Flights-.png
END:VEVENT
BEGIN:VEVENT
DTSTART;TZID=America/Halifax:20230624T210000
DTEND;TZID=America/Halifax:20230625T020000
DTSTAMP:20260421T051348
CREATED:20230623T121205Z
LAST-MODIFIED:20230623T121255Z
UID:10038112-1687640400-1687658400@marketsquaresj.com
SUMMARY:Gizmo @ McGill's
DESCRIPTION:Gizmo’s final stop on their maritime tour ends with McGill’s Lounge in Saint John New Brunswick.\n$10 at the door\, music starts at 9. \nSee ya Saturday! 
URL:https://marketsquaresj.com/event/gizmo-mcgills/
CATEGORIES:Events,Promos,Promos Restaurants
ATTACH;FMTTYPE=image/png:https://marketsquaresj.com/wp-content/uploads/2023/06/Gizmo-.png
END:VEVENT
BEGIN:VEVENT
DTSTART;TZID=America/Halifax:20230616T220000
DTEND;TZID=America/Halifax:20230617T020000
DTSTAMP:20260421T051348
CREATED:20230612T173824Z
LAST-MODIFIED:20230612T173911Z
UID:10038108-1686952800-1686967200@marketsquaresj.com
SUMMARY:Funk on Fridays!
DESCRIPTION:Funk on Friday! \nFunk\, Disco\, Breakbeats \nTONIGHT! @ McGills
URL:https://marketsquaresj.com/event/funk-on-fridays/
CATEGORIES:Events,Promos,Promos Restaurants
ATTACH;FMTTYPE=image/png:https://marketsquaresj.com/wp-content/uploads/2023/06/funk-on-friday-.png
END:VEVENT
BEGIN:VEVENT
DTSTART;TZID=America/Halifax:20230610T220000
DTEND;TZID=America/Halifax:20230611T020000
DTSTAMP:20260421T051348
CREATED:20230608T165211Z
LAST-MODIFIED:20230608T165211Z
UID:10038107-1686434400-1686448800@marketsquaresj.com
SUMMARY:Sebastian Fleet Band
DESCRIPTION:Live @ McGill’s \nJune 10th \n\n10pm\, $10!
URL:https://marketsquaresj.com/event/sebastian-fleet-band/
CATEGORIES:Events,Promos,Promos Restaurants
ATTACH;FMTTYPE=image/png:https://marketsquaresj.com/wp-content/uploads/2023/06/SAB.png
END:VEVENT
BEGIN:VEVENT
DTSTART;TZID=America/Halifax:20230602T220000
DTEND;TZID=America/Halifax:20230603T220000
DTSTAMP:20260421T051348
CREATED:20230601T133854Z
LAST-MODIFIED:20230601T133951Z
UID:10038105-1685743200-1685829600@marketsquaresj.com
SUMMARY:Bollywood DJ event with @djprincemusic
DESCRIPTION:June 2nd!\nFrom 10pm-2am\n\n\n#BloomingBudEvents is back with something bigger and better\n\n\nGet ready to experience the First Ever Bollywood DJ event with @djprincemusic  at McGill’s on June 2nd!\n\n\nWe cannot be more excited!\nWe have limited tickets for this special event and DM @bloomingbudevents for more information about tickets!
URL:https://marketsquaresj.com/event/bollywood-dj-event-with-djprincemusic/
CATEGORIES:Events,Promos,Promos Restaurants
ATTACH;FMTTYPE=image/jpeg:https://marketsquaresj.com/wp-content/uploads/2023/06/bollywood.jpg
END:VEVENT
BEGIN:VEVENT
DTSTART;TZID=America/Halifax:20230527T220000
DTEND;TZID=America/Halifax:20230528T020000
DTSTAMP:20260421T051348
CREATED:20230523T130614Z
LAST-MODIFIED:20230523T130614Z
UID:10038101-1685224800-1685239200@marketsquaresj.com
SUMMARY:The partners in funk - DJ D’Mayne Event and Philip Jaguar
DESCRIPTION: \n\n\nThe partners in funk – DJ D’Mayne Event and Philip Jaguar 🤝 \n\n\nkicking off the summer season in style with an all-vinyl dance party at McGill’s 🕺💃\n\n\n \n\n\n😍A rare special night of house/funk/disco party jams on wax! 😍\n\n\n \n\n\nFeaturing \n\n\n \n\n\nD’MAYNE EVENT 🏆🏅 \n\n\nvoted by you as DJ OF THE YEAR at the 2023 Party Sauce Awards \n\n\n \n\n\nPHILIP JAGUAR 🐴🛸 \n\n\nyour pal the horse from space \n\n\n \n\n\n10pm until 2am – $10 at the door!
URL:https://marketsquaresj.com/event/the-partners-in-funk-dj-dmayne-event-and-philip-jaguar/
CATEGORIES:Events,Promos,Promos Restaurants
ATTACH;FMTTYPE=image/png:https://marketsquaresj.com/wp-content/uploads/2023/05/Mcgislllssss.png
END:VEVENT
BEGIN:VEVENT
DTSTART;TZID=America/Halifax:20230501T090000
DTEND;TZID=America/Halifax:20230507T210000
DTSTAMP:20260421T051348
CREATED:20230417T160638Z
LAST-MODIFIED:20230501T150818Z
UID:10038089-1682931600-1683493200@marketsquaresj.com
SUMMARY:Uptown Burger Week
DESCRIPTION:🍔Attention all burger fans! 🍔 \n\nGet ready for Burger Week happening from May 1st to May 7th @ Market Square!\n\n\n \n\n\nCome and try a mouth-watering creation from one of the 6 participating restaurants. \n\n\n \n\n\nBring your appetite and friends\, and let’s help support our local restaurants together. \n\n\n \n\n\nWho’s joining us for Uptown Burger Week? \n\n\n \n\n\nDon’t forget to take a picture of your burger\, mention which restuarant your creation is from and use hashtags #MarketSquaresj #UptownBurgerWeek\n\n\n \n\n\n#MarketSquareMonday #marketsquaresj #saintjohn #newbrunswick #saintawesome #uptownburgerweek
URL:https://marketsquaresj.com/event/uptown-burger-week/
CATEGORIES:Events,Promos,Promos Restaurants
ATTACH;FMTTYPE=image/png:https://marketsquaresj.com/wp-content/uploads/2023/04/buuurrrr.png
END:VEVENT
BEGIN:VEVENT
DTSTART;TZID=America/Halifax:20230401T220000
DTEND;TZID=America/Halifax:20230402T020000
DTSTAMP:20260421T051348
CREATED:20230321T173741Z
LAST-MODIFIED:20230321T175044Z
UID:10038084-1680386400-1680400800@marketsquaresj.com
SUMMARY:NINTH ANNUAL PARTY SAUCE AWARDS
DESCRIPTION:IT IS ONCE AGAIN TIME TO HAND OUT CANADA’S DOPEST AND MOST LEGITIMATE AWARDS. \nCOME CELEBRATE @ McGill’s ON APRIL 1 10pm-2am $10 \nWITH MUSIC BY: \nSHRIMP RING \nCURSING & SWEARING \nJAGUAR KNIGHT \nAND GOLD PUNKS CLOSING IT ALL OUT WITH A DJ SET \nONLINE POLL LAUNCHING SHORTLY. VOTE EARLY VOTE OFTEN. JUDGE’S DECISION IS FINAL \nPARTY SAUCE AWARDS THE ONLY AWARDS TO BE AWARDED THE AWARD FOR “BEST AWARDS.” AT THE PARTY SAUCE AWARDS \nTHIS EVENT ALWAYS A WILD PARTY \nSEE YOU THERE!
URL:https://marketsquaresj.com/event/ninth-annual-party-sauce-awards/
CATEGORIES:Promos,Promos Restaurants
ATTACH;FMTTYPE=image/png:https://marketsquaresj.com/wp-content/uploads/2023/03/Party-Sauce-Awards.png
END:VEVENT
BEGIN:VEVENT
DTSTART;TZID=America/Halifax:20230106T150000
DTEND;TZID=America/Halifax:20230325T180000
DTSTAMP:20260421T051348
CREATED:20230104T145500Z
LAST-MODIFIED:20230105T151009Z
UID:10038060-1673017200-1679767200@marketsquaresj.com
SUMMARY:Buck A Shuck\, Fridays & Saturdays at Grannan's
DESCRIPTION:Fill your plate with all of the oysters your heart desires for just 1$ each during Grannan’s #BuckAShuck special!\nStop by Grannan’s every Friday and Saturday for their special from 3pm until 6pm!
URL:https://marketsquaresj.com/event/buck-a-shuck-fridays-and-saturdays-at-grannans-2/
LOCATION:GRANNAN’S SEAFOOD RESTAURANT
CATEGORIES:Promos Restaurants
ATTACH;FMTTYPE=image/jpeg:https://marketsquaresj.com/wp-content/uploads/2023/01/Grannans.jpg
END:VEVENT
BEGIN:VEVENT
DTSTART;VALUE=DATE:20230101
DTEND;VALUE=DATE:20230201
DTSTAMP:20260421T051348
CREATED:20221201T144021Z
LAST-MODIFIED:20221201T144022Z
UID:10038032-1672531200-1675209599@marketsquaresj.com
SUMMARY:Peppers Pub ~ Take home your favourite beer!
DESCRIPTION:You can now take home any of your favorite beer from Pepper’s Pub tap list. Yes\, you can! Special thanks to Hampton Brewing Co. Ltd. & Long Bay Brewery for helping to get this rolling!
URL:https://marketsquaresj.com/event/peppers-pub-take-home-your-favourite-beer-2/2023-01-01/
CATEGORIES:Promos Restaurants
ATTACH;FMTTYPE=image/jpeg:https://marketsquaresj.com/wp-content/uploads/2022/10/favourite-beer-at-peppers-pub.jpg
END:VEVENT
BEGIN:VEVENT
DTSTART;TZID=America/Halifax:20221202T170000
DTEND;TZID=America/Halifax:20221202T210000
DTSTAMP:20260421T051348
CREATED:20220809T173936Z
LAST-MODIFIED:20221116T162053Z
UID:10037990-1670000400-1670014800@marketsquaresj.com
SUMMARY:Uptown Sparkles ~ Market Square
DESCRIPTION:Friday\, December 2\, 2022\, from 5:00pm to 9:00pm.\nJoin us at Market Square for holiday cheer\, live music on the stage\, and gift certificate giveaways. \nBring a date\, get some friends together\, or treat your family to this charming Uptown Saint John tradition. Market Square’s unique boutiques and restaurants welcome shoppers with festive specials for all\, including sea glass vendors offering great selections for your holiday shopping. \nUptown Sparkles Website \nUnderground parking available (Saint John Parking Commission). \nSee you there!
URL:https://marketsquaresj.com/event/uptown-sparkles-2022/
CATEGORIES:Events,Promos Restaurants,Promos Retail
ATTACH;FMTTYPE=image/jpeg:https://marketsquaresj.com/wp-content/uploads/2022/08/Facebook-Post.jpg
END:VEVENT
BEGIN:VEVENT
DTSTART;VALUE=DATE:20221201
DTEND;VALUE=DATE:20230101
DTSTAMP:20260421T051348
CREATED:20221201T144021Z
LAST-MODIFIED:20221201T144022Z
UID:10038021-1669852800-1672531199@marketsquaresj.com
SUMMARY:Peppers Pub ~ Take home your favourite beer!
DESCRIPTION:You can now take home any of your favorite beer from Pepper’s Pub tap list. Yes\, you can! Special thanks to Hampton Brewing Co. Ltd. & Long Bay Brewery for helping to get this rolling!
URL:https://marketsquaresj.com/event/peppers-pub-take-home-your-favourite-beer-2/2022-12-01/
CATEGORIES:Promos Restaurants
ATTACH;FMTTYPE=image/jpeg:https://marketsquaresj.com/wp-content/uploads/2022/10/favourite-beer-at-peppers-pub.jpg
END:VEVENT
BEGIN:VEVENT
DTSTART;VALUE=DATE:20221201
DTEND;VALUE=DATE:20221217
DTSTAMP:20260421T051348
CREATED:20221024T190123Z
LAST-MODIFIED:20221228T145820Z
UID:10037984-1669852800-1671235199@marketsquaresj.com
SUMMARY:Five Festive Fridays ~ 2022
DESCRIPTION:Enter for a chance to win one of 5 $500.00 shopping sprees!\nVisit one of Market Square’s many fine shops or restaurants for your ballot to enter (purchase required)\, and drop your ballot off in the ballot box located in the Market Square Atrium.\nEnds December 16th!\nMore details to come. Check back here or on our Facebook page closer to the date. \nDraw dates: Nov. 18th\, 25th\, Dec. 2nd\, 9th and 16th.
URL:https://marketsquaresj.com/event/five-festive-fridays-16-2/
LOCATION:ATRIUM
CATEGORIES:Events,Promos Restaurants,Promos Retail
ATTACH;FMTTYPE=image/jpeg:https://marketsquaresj.com/wp-content/uploads/2018/01/FIVE-FESTIVE-FRIDAYS-0918.jpg
END:VEVENT
BEGIN:VEVENT
DTSTART;VALUE=DATE:20221101
DTEND;VALUE=DATE:20221102
DTSTAMP:20260421T051348
CREATED:20221003T192541Z
LAST-MODIFIED:20221005T141731Z
UID:10038018-1667260800-1667347199@marketsquaresj.com
SUMMARY:Wing Night!
DESCRIPTION:Every Thursday wings are 60 cents each at Saint John Ale House
URL:https://marketsquaresj.com/event/wing-nights/2022-11-01/
LOCATION:SAINT JOHN ALE HOUSE
CATEGORIES:Promos Restaurants
ATTACH;FMTTYPE=image/jpeg:https://marketsquaresj.com/wp-content/uploads/2022/05/wing-night.jpg
END:VEVENT
END:VCALENDAR