BEGIN:VCALENDAR
VERSION:2.0
PRODID:-//Market Square - ECPv6.15.20//NONSGML v1.0//EN
CALSCALE:GREGORIAN
METHOD:PUBLISH
X-ORIGINAL-URL:https://marketsquaresj.com
X-WR-CALDESC:Events for Market Square
REFRESH-INTERVAL;VALUE=DURATION:PT1H
X-Robots-Tag:noindex
X-PUBLISHED-TTL:PT1H
BEGIN:VTIMEZONE
TZID:America/Halifax
BEGIN:DAYLIGHT
TZOFFSETFROM:-0400
TZOFFSETTO:-0300
TZNAME:ADT
DTSTART:20210314T060000
END:DAYLIGHT
BEGIN:STANDARD
TZOFFSETFROM:-0300
TZOFFSETTO:-0400
TZNAME:AST
DTSTART:20211107T050000
END:STANDARD
BEGIN:DAYLIGHT
TZOFFSETFROM:-0400
TZOFFSETTO:-0300
TZNAME:ADT
DTSTART:20220313T060000
END:DAYLIGHT
BEGIN:STANDARD
TZOFFSETFROM:-0300
TZOFFSETTO:-0400
TZNAME:AST
DTSTART:20221106T050000
END:STANDARD
BEGIN:DAYLIGHT
TZOFFSETFROM:-0400
TZOFFSETTO:-0300
TZNAME:ADT
DTSTART:20230312T060000
END:DAYLIGHT
BEGIN:STANDARD
TZOFFSETFROM:-0300
TZOFFSETTO:-0400
TZNAME:AST
DTSTART:20231105T050000
END:STANDARD
BEGIN:DAYLIGHT
TZOFFSETFROM:-0400
TZOFFSETTO:-0300
TZNAME:ADT
DTSTART:20240310T060000
END:DAYLIGHT
BEGIN:STANDARD
TZOFFSETFROM:-0300
TZOFFSETTO:-0400
TZNAME:AST
DTSTART:20241103T050000
END:STANDARD
END:VTIMEZONE
BEGIN:VEVENT
DTSTART;TZID=America/Halifax:20230602T220000
DTEND;TZID=America/Halifax:20230603T220000
DTSTAMP:20260421T131327
CREATED:20230601T133854Z
LAST-MODIFIED:20230601T133951Z
UID:10038105-1685743200-1685829600@marketsquaresj.com
SUMMARY:Bollywood DJ event with @djprincemusic
DESCRIPTION:June 2nd!\nFrom 10pm-2am\n\n\n#BloomingBudEvents is back with something bigger and better\n\n\nGet ready to experience the First Ever Bollywood DJ event with @djprincemusic  at McGill’s on June 2nd!\n\n\nWe cannot be more excited!\nWe have limited tickets for this special event and DM @bloomingbudevents for more information about tickets!
URL:https://marketsquaresj.com/event/bollywood-dj-event-with-djprincemusic/
CATEGORIES:Events,Promos,Promos Restaurants
ATTACH;FMTTYPE=image/jpeg:https://marketsquaresj.com/wp-content/uploads/2023/06/bollywood.jpg
END:VEVENT
BEGIN:VEVENT
DTSTART;TZID=America/Halifax:20230527T220000
DTEND;TZID=America/Halifax:20230528T020000
DTSTAMP:20260421T131327
CREATED:20230523T130614Z
LAST-MODIFIED:20230523T130614Z
UID:10038101-1685224800-1685239200@marketsquaresj.com
SUMMARY:The partners in funk - DJ D’Mayne Event and Philip Jaguar
DESCRIPTION: \n\n\nThe partners in funk – DJ D’Mayne Event and Philip Jaguar 🤝 \n\n\nkicking off the summer season in style with an all-vinyl dance party at McGill’s 🕺💃\n\n\n \n\n\n😍A rare special night of house/funk/disco party jams on wax! 😍\n\n\n \n\n\nFeaturing \n\n\n \n\n\nD’MAYNE EVENT 🏆🏅 \n\n\nvoted by you as DJ OF THE YEAR at the 2023 Party Sauce Awards \n\n\n \n\n\nPHILIP JAGUAR 🐴🛸 \n\n\nyour pal the horse from space \n\n\n \n\n\n10pm until 2am – $10 at the door!
URL:https://marketsquaresj.com/event/the-partners-in-funk-dj-dmayne-event-and-philip-jaguar/
CATEGORIES:Events,Promos,Promos Restaurants
ATTACH;FMTTYPE=image/png:https://marketsquaresj.com/wp-content/uploads/2023/05/Mcgislllssss.png
END:VEVENT
BEGIN:VEVENT
DTSTART;TZID=America/Halifax:20230501T090000
DTEND;TZID=America/Halifax:20230507T210000
DTSTAMP:20260421T131327
CREATED:20230417T160638Z
LAST-MODIFIED:20230501T150818Z
UID:10038089-1682931600-1683493200@marketsquaresj.com
SUMMARY:Uptown Burger Week
DESCRIPTION:🍔Attention all burger fans! 🍔 \n\nGet ready for Burger Week happening from May 1st to May 7th @ Market Square!\n\n\n \n\n\nCome and try a mouth-watering creation from one of the 6 participating restaurants. \n\n\n \n\n\nBring your appetite and friends\, and let’s help support our local restaurants together. \n\n\n \n\n\nWho’s joining us for Uptown Burger Week? \n\n\n \n\n\nDon’t forget to take a picture of your burger\, mention which restuarant your creation is from and use hashtags #MarketSquaresj #UptownBurgerWeek\n\n\n \n\n\n#MarketSquareMonday #marketsquaresj #saintjohn #newbrunswick #saintawesome #uptownburgerweek
URL:https://marketsquaresj.com/event/uptown-burger-week/
CATEGORIES:Events,Promos,Promos Restaurants
ATTACH;FMTTYPE=image/png:https://marketsquaresj.com/wp-content/uploads/2023/04/buuurrrr.png
END:VEVENT
BEGIN:VEVENT
DTSTART;TZID=America/Halifax:20230401T220000
DTEND;TZID=America/Halifax:20230402T020000
DTSTAMP:20260421T131327
CREATED:20230321T173741Z
LAST-MODIFIED:20230321T175044Z
UID:10038084-1680386400-1680400800@marketsquaresj.com
SUMMARY:NINTH ANNUAL PARTY SAUCE AWARDS
DESCRIPTION:IT IS ONCE AGAIN TIME TO HAND OUT CANADA’S DOPEST AND MOST LEGITIMATE AWARDS. \nCOME CELEBRATE @ McGill’s ON APRIL 1 10pm-2am $10 \nWITH MUSIC BY: \nSHRIMP RING \nCURSING & SWEARING \nJAGUAR KNIGHT \nAND GOLD PUNKS CLOSING IT ALL OUT WITH A DJ SET \nONLINE POLL LAUNCHING SHORTLY. VOTE EARLY VOTE OFTEN. JUDGE’S DECISION IS FINAL \nPARTY SAUCE AWARDS THE ONLY AWARDS TO BE AWARDED THE AWARD FOR “BEST AWARDS.” AT THE PARTY SAUCE AWARDS \nTHIS EVENT ALWAYS A WILD PARTY \nSEE YOU THERE!
URL:https://marketsquaresj.com/event/ninth-annual-party-sauce-awards/
CATEGORIES:Promos,Promos Restaurants
ATTACH;FMTTYPE=image/png:https://marketsquaresj.com/wp-content/uploads/2023/03/Party-Sauce-Awards.png
END:VEVENT
BEGIN:VEVENT
DTSTART;TZID=America/Halifax:20230106T150000
DTEND;TZID=America/Halifax:20230325T180000
DTSTAMP:20260421T131327
CREATED:20230104T145500Z
LAST-MODIFIED:20230105T151009Z
UID:10038060-1673017200-1679767200@marketsquaresj.com
SUMMARY:Buck A Shuck\, Fridays & Saturdays at Grannan's
DESCRIPTION:Fill your plate with all of the oysters your heart desires for just 1$ each during Grannan’s #BuckAShuck special!\nStop by Grannan’s every Friday and Saturday for their special from 3pm until 6pm!
URL:https://marketsquaresj.com/event/buck-a-shuck-fridays-and-saturdays-at-grannans-2/
LOCATION:GRANNAN’S SEAFOOD RESTAURANT
CATEGORIES:Promos Restaurants
ATTACH;FMTTYPE=image/jpeg:https://marketsquaresj.com/wp-content/uploads/2023/01/Grannans.jpg
END:VEVENT
BEGIN:VEVENT
DTSTART;VALUE=DATE:20230101
DTEND;VALUE=DATE:20230201
DTSTAMP:20260421T131327
CREATED:20221201T144021Z
LAST-MODIFIED:20221201T144022Z
UID:10038032-1672531200-1675209599@marketsquaresj.com
SUMMARY:Peppers Pub ~ Take home your favourite beer!
DESCRIPTION:You can now take home any of your favorite beer from Pepper’s Pub tap list. Yes\, you can! Special thanks to Hampton Brewing Co. Ltd. & Long Bay Brewery for helping to get this rolling!
URL:https://marketsquaresj.com/event/peppers-pub-take-home-your-favourite-beer-2/2023-01-01/
CATEGORIES:Promos Restaurants
ATTACH;FMTTYPE=image/jpeg:https://marketsquaresj.com/wp-content/uploads/2022/10/favourite-beer-at-peppers-pub.jpg
END:VEVENT
BEGIN:VEVENT
DTSTART;TZID=America/Halifax:20221202T170000
DTEND;TZID=America/Halifax:20221202T210000
DTSTAMP:20260421T131327
CREATED:20220809T173936Z
LAST-MODIFIED:20221116T162053Z
UID:10037990-1670000400-1670014800@marketsquaresj.com
SUMMARY:Uptown Sparkles ~ Market Square
DESCRIPTION:Friday\, December 2\, 2022\, from 5:00pm to 9:00pm.\nJoin us at Market Square for holiday cheer\, live music on the stage\, and gift certificate giveaways. \nBring a date\, get some friends together\, or treat your family to this charming Uptown Saint John tradition. Market Square’s unique boutiques and restaurants welcome shoppers with festive specials for all\, including sea glass vendors offering great selections for your holiday shopping. \nUptown Sparkles Website \nUnderground parking available (Saint John Parking Commission). \nSee you there!
URL:https://marketsquaresj.com/event/uptown-sparkles-2022/
CATEGORIES:Events,Promos Restaurants,Promos Retail
ATTACH;FMTTYPE=image/jpeg:https://marketsquaresj.com/wp-content/uploads/2022/08/Facebook-Post.jpg
END:VEVENT
BEGIN:VEVENT
DTSTART;VALUE=DATE:20221201
DTEND;VALUE=DATE:20230101
DTSTAMP:20260421T131327
CREATED:20221201T144021Z
LAST-MODIFIED:20221201T144022Z
UID:10038021-1669852800-1672531199@marketsquaresj.com
SUMMARY:Peppers Pub ~ Take home your favourite beer!
DESCRIPTION:You can now take home any of your favorite beer from Pepper’s Pub tap list. Yes\, you can! Special thanks to Hampton Brewing Co. Ltd. & Long Bay Brewery for helping to get this rolling!
URL:https://marketsquaresj.com/event/peppers-pub-take-home-your-favourite-beer-2/2022-12-01/
CATEGORIES:Promos Restaurants
ATTACH;FMTTYPE=image/jpeg:https://marketsquaresj.com/wp-content/uploads/2022/10/favourite-beer-at-peppers-pub.jpg
END:VEVENT
BEGIN:VEVENT
DTSTART;VALUE=DATE:20221201
DTEND;VALUE=DATE:20221217
DTSTAMP:20260421T131327
CREATED:20221024T190123Z
LAST-MODIFIED:20221228T145820Z
UID:10037984-1669852800-1671235199@marketsquaresj.com
SUMMARY:Five Festive Fridays ~ 2022
DESCRIPTION:Enter for a chance to win one of 5 $500.00 shopping sprees!\nVisit one of Market Square’s many fine shops or restaurants for your ballot to enter (purchase required)\, and drop your ballot off in the ballot box located in the Market Square Atrium.\nEnds December 16th!\nMore details to come. Check back here or on our Facebook page closer to the date. \nDraw dates: Nov. 18th\, 25th\, Dec. 2nd\, 9th and 16th.
URL:https://marketsquaresj.com/event/five-festive-fridays-16-2/
LOCATION:ATRIUM
CATEGORIES:Events,Promos Restaurants,Promos Retail
ATTACH;FMTTYPE=image/jpeg:https://marketsquaresj.com/wp-content/uploads/2018/01/FIVE-FESTIVE-FRIDAYS-0918.jpg
END:VEVENT
BEGIN:VEVENT
DTSTART;VALUE=DATE:20221101
DTEND;VALUE=DATE:20221102
DTSTAMP:20260421T131327
CREATED:20221003T192541Z
LAST-MODIFIED:20221005T141731Z
UID:10038018-1667260800-1667347199@marketsquaresj.com
SUMMARY:Wing Night!
DESCRIPTION:Every Thursday wings are 60 cents each at Saint John Ale House
URL:https://marketsquaresj.com/event/wing-nights/2022-11-01/
LOCATION:SAINT JOHN ALE HOUSE
CATEGORIES:Promos Restaurants
ATTACH;FMTTYPE=image/jpeg:https://marketsquaresj.com/wp-content/uploads/2022/05/wing-night.jpg
END:VEVENT
BEGIN:VEVENT
DTSTART;VALUE=DATE:20221031
DTEND;VALUE=DATE:20221107
DTSTAMP:20260421T131327
CREATED:20220921T123140Z
LAST-MODIFIED:20220929T164149Z
UID:10037995-1667174400-1667779199@marketsquaresj.com
SUMMARY:Chop Chop Dining Week 2022
DESCRIPTION:Market Square has you covered for food choices any time of the year\, but Chop Chop Week is always special!\nOctober 31 to November 6\, 2022. \nStay tuned on the Chop Chop Website for a list of participating food establishments.
URL:https://marketsquaresj.com/event/chop-chop-dining-week-2022/
CATEGORIES:Events,Promos Restaurants
ATTACH;FMTTYPE=image/jpeg:https://marketsquaresj.com/wp-content/uploads/2022/09/photo-of-food-for-chop-chop.jpg
END:VEVENT
BEGIN:VEVENT
DTSTART;VALUE=DATE:20221001
DTEND;VALUE=DATE:20221101
DTSTAMP:20260421T131327
CREATED:20221005T174438Z
LAST-MODIFIED:20221005T174438Z
UID:10038020-1664582400-1667260799@marketsquaresj.com
SUMMARY:Peppers Pub ~ Take home your favourite beer!
DESCRIPTION:You can now take home any of your favorite beer from Pepper’s Pub tap list. Yes\, you can! Special thanks to Hampton Brewing Co. Ltd. & Long Bay Brewery for helping to get this rolling!
URL:https://marketsquaresj.com/event/peppers-pub-take-home-your-favourite-beer/
CATEGORIES:Promos Restaurants
ATTACH;FMTTYPE=image/jpeg:https://marketsquaresj.com/wp-content/uploads/2022/10/favourite-beer-at-peppers-pub.jpg
END:VEVENT
BEGIN:VEVENT
DTSTART;VALUE=DATE:20221001
DTEND;VALUE=DATE:20221002
DTSTAMP:20260421T131327
CREATED:20221003T192541Z
LAST-MODIFIED:20221005T141731Z
UID:10038017-1664582400-1664668799@marketsquaresj.com
SUMMARY:Wing Night!
DESCRIPTION:Every Thursday wings are 60 cents each at Saint John Ale House
URL:https://marketsquaresj.com/event/wing-nights/2022-10-01/
LOCATION:SAINT JOHN ALE HOUSE
CATEGORIES:Promos Restaurants
ATTACH;FMTTYPE=image/jpeg:https://marketsquaresj.com/wp-content/uploads/2022/05/wing-night.jpg
END:VEVENT
BEGIN:VEVENT
DTSTART;VALUE=DATE:20220901
DTEND;VALUE=DATE:20220902
DTSTAMP:20260421T131327
CREATED:20221003T192541Z
LAST-MODIFIED:20221005T141731Z
UID:10038019-1661990400-1662076799@marketsquaresj.com
SUMMARY:Wing Night!
DESCRIPTION:Every Thursday wings are 60 cents each at Saint John Ale House
URL:https://marketsquaresj.com/event/wing-nights/2022-09-01/
LOCATION:SAINT JOHN ALE HOUSE
CATEGORIES:Promos Restaurants
ATTACH;FMTTYPE=image/jpeg:https://marketsquaresj.com/wp-content/uploads/2022/05/wing-night.jpg
END:VEVENT
BEGIN:VEVENT
DTSTART;TZID=America/Halifax:20220612T110000
DTEND;TZID=America/Halifax:20220612T130000
DTSTAMP:20260421T131327
CREATED:20220525T123159Z
LAST-MODIFIED:20220929T164143Z
UID:10037977-1655031600-1655038800@marketsquaresj.com
SUMMARY:World Pride Drag Brunch
DESCRIPTION:It’s World Pride Month (June) and while it’s FAR TOO COLD to have actual pride in this month\, we’re having a mini celebration of our own!\nWe’re coming back at you with another Brunch-tacular event at the Saint John Ale House featuring The King of NB – Justin Toodeep!\nOf course what brunch would be complete without a host of drag hotties to spice up your morning?\nFeaturing:\nDia Monde\, Jewel of Saint John\nEqui Knox\, The Brunch Queen of Moncton\nand For the very first time ever Goldie Cox – The Buxom Farm Girl of Sussex\nYou’ll be treated to an epic drag show and a DELICIOUS EXCLUSIVE menu of treats cooked up by the sublime chefs of the SJAH.\nOur Menu features some items you won’t find at any other time at SJAH\, so this is the ONLY way to try them!\nTickets are $45.00 Each and VERY limited\, we sold out in 4 days last time!\nTickets can only be booked by e-mailing h2dproductions@justintoodeep.com.\nOur show allows audience members of all ages (including babies!) but viewer discretion is advised!\nDon’t delay\, snatch those tickets and come slay with us on Sunday\, June 12th!\n\nMenu:\nChicken & Waffles: Chicken Tenders ravaged in our Maple realness\, bacon\, gayoli and Armdale Cheddar on toasty waffles with a side of home fries.\nBreakfabulous Poutine (Justin and Dia’s Favourite):\nCrispy Tater tots tossed in our sexy butt rub\, Armdale Cheese curds\, Hollandaise\, Sausage\, Bacon and Green Onions\nSissy that Guac (VEG):\nHouse made Sourdough bread with Avocado\, lemony greens\, feta hickory smoked almonds\, house made sassy hot sauce\nBreakfast BELT Sandwich:\nToasted Onion Bun\, Gayoli\, Lettuce\, Tomato\, Bacon\, Armdale Cheddar\, Home Fries\nWafflecado Sandi\nCrispy Avocado\, Maple Realness\, Spicy Mayo\, Greens\, Tomato\, Cheese\, Bacon on a toasty waffle with a side of home fries.\nMissionary Style Breakfast:\n2 Eggs\, Sausage\, Bacon\, Sourdough Toast\, Home Fries
URL:https://marketsquaresj.com/event/world-pride-drag-brunch/
LOCATION:SAINT JOHN ALE HOUSE
CATEGORIES:Events,Promos Restaurants
ATTACH;FMTTYPE=image/jpeg:https://marketsquaresj.com/wp-content/uploads/2022/05/281717674_400026838802042_4100755098702709110_n.jpg
END:VEVENT
BEGIN:VEVENT
DTSTART;TZID=America/Halifax:20220520T220000
DTEND;TZID=America/Halifax:20220521T020000
DTSTAMP:20260421T131327
CREATED:20220520T141823Z
LAST-MODIFIED:20220929T164136Z
UID:10037976-1653084000-1653098400@marketsquaresj.com
SUMMARY:Inspire Festival at Pepper's Pub
DESCRIPTION:Inspire Festival Summer Tour 2022 presents a wonderful night of music and live art on Friday May.20th at Peppers Pub featuring Kylie Fox\, Dumpster Cub\, DJ LU\, Midas Well Creations\, and Lola. In celebration of the return to live music and art this show will be FREE! Join us for a great night!
URL:https://marketsquaresj.com/event/inspire-festival-at-peppers-pub/
CATEGORIES:Events,Promos Restaurants
ATTACH;FMTTYPE=image/jpeg:https://marketsquaresj.com/wp-content/uploads/2022/05/279512150_3271654449745633_8380692975255809510_n.jpg
END:VEVENT
BEGIN:VEVENT
DTSTART;VALUE=DATE:20220520
DTEND;VALUE=DATE:20220601
DTSTAMP:20260421T131327
CREATED:20220520T132000Z
LAST-MODIFIED:20220929T164300Z
UID:10037975-1653004800-1654041599@marketsquaresj.com
SUMMARY:McGill's - Now Hiring!
DESCRIPTION:“We are hiring! Currently looking for our summer #mcgillssj crew! Please share this post and come visit us with a resume and cover letter. Can’t wait for patio season!” – McGills
URL:https://marketsquaresj.com/event/mcgills-now-hiring/
CATEGORIES:Promos Restaurants
ATTACH;FMTTYPE=image/jpeg:https://marketsquaresj.com/wp-content/uploads/2022/05/280645956_1640306149677977_532565507354112556_n-1.jpg
END:VEVENT
BEGIN:VEVENT
DTSTART;VALUE=DATE:20220519
DTEND;VALUE=DATE:20220606
DTSTAMP:20260421T131327
CREATED:20220519T114112Z
LAST-MODIFIED:20220929T164253Z
UID:10037973-1652918400-1654473599@marketsquaresj.com
SUMMARY:Fiddleheads at Saint John Ale House
DESCRIPTION:“Crispy butter milk fiddleheads are back! This is a game changer\, get em while we have em!” – Saint John Ale House
URL:https://marketsquaresj.com/event/fiddleheads-at-saint-john-ale-house/
LOCATION:SAINT JOHN ALE HOUSE
CATEGORIES:Promos Restaurants
ATTACH;FMTTYPE=image/jpeg:https://marketsquaresj.com/wp-content/uploads/2022/05/fiddle-heads-ale-house.jpg
END:VEVENT
BEGIN:VEVENT
DTSTART;VALUE=DATE:20220502
DTEND;VALUE=DATE:20220509
DTSTAMP:20260421T131327
CREATED:20220504T114817Z
LAST-MODIFIED:20220929T164127Z
UID:10037966-1651449600-1652054399@marketsquaresj.com
SUMMARY:Uptown Burger Week
DESCRIPTION:Visit Uptown Saint John from May 2 to 8 2022 & enjoy some creative burgers from 19 participating restaurants!\nThis event is organized by Uptown Saint John Business Improvement Association and is one of the many events hosted throughout the year as a part of Uptown Saint John Eats!\nFollow us at Uptown Saint John Eats on Instagram @UptownSjEATS and Facebook @UptownSjEATS This is where we will be featuring all the Uptown Saint John BIA organized food & drink events throughout the year!\n\nClick the link below to find the full list of participating restaurants & we will be posting the menus as they come in! \n\nhttps://uptownsj.com/blog/2022/03/25/uptown-burger-week/
URL:https://marketsquaresj.com/event/uptown-burger-week-4/
CATEGORIES:Events,Promos Restaurants
END:VEVENT
BEGIN:VEVENT
DTSTART;VALUE=DATE:20220427
DTEND;VALUE=DATE:20220428
DTSTAMP:20260421T131327
CREATED:20220208T134406Z
LAST-MODIFIED:20220929T164203Z
UID:10037956-1651017600-1651103999@marketsquaresj.com
SUMMARY:Administrative Professionals Day
DESCRIPTION:Wednesday\, April 27th\, 2022.\nCelebrate your office support person with something special from Market Square. A spa treatment\, quality handbags\, stylish clothes and accessories\, bath products to pamper and soothe\, or a meal at the restaurants. Even shop online at the NB Museum Gift Shop!\nSee individual listings in the Market Square Directory for contact and hours information.\nShow them you appreciate them !
URL:https://marketsquaresj.com/event/administrative-professionals-day-2/
CATEGORIES:Events,Promos Restaurants,Promos Retail
ATTACH;FMTTYPE=image/jpeg:https://marketsquaresj.com/wp-content/uploads/2022/02/Administrative-professionals-day-2.jpg
END:VEVENT
BEGIN:VEVENT
DTSTART;VALUE=DATE:20220201
DTEND;VALUE=DATE:20220215
DTSTAMP:20260421T131327
CREATED:20220118T173454Z
LAST-MODIFIED:20220929T164155Z
UID:10037953-1643673600-1644883199@marketsquaresj.com
SUMMARY:Valentine's Day
DESCRIPTION:This Valentine’s Day\, don’t let Covid 19 keep you from showing your love and appreciation for those special to you\, or to treat yourself! \nThe stores and restaurants in Market Square are open to serve you\, in person or on-line. \nCall individual establishments to find out their current hours. \nMarket Square Directory
URL:https://marketsquaresj.com/event/valentines-day/
CATEGORIES:Events,Promos Restaurants,Promos Retail
ATTACH;FMTTYPE=image/jpeg:https://marketsquaresj.com/wp-content/uploads/2022/01/valentines-day-calendar.jpg
END:VEVENT
BEGIN:VEVENT
DTSTART;TZID=America/Halifax:20220118T163000
DTEND;TZID=America/Halifax:20220222T190000
DTSTAMP:20260421T131327
CREATED:20211213T151153Z
LAST-MODIFIED:20220929T164120Z
UID:10037950-1642523400-1645556400@marketsquaresj.com
SUMMARY:Taco Tuesday at Grannan's
DESCRIPTION:On until February 22\, 2022 – We’ve got a half-dozen of the most delicious Tacos lined up for our Taco Tuesday with our delicious sangria or domestic draft to wash em’ down with! Join us every Tuesday from 4:30pm to 7pm for our #TacoTuesday specials
URL:https://marketsquaresj.com/event/taco-tuesday-at-grannans/
LOCATION:GRANNAN’S SEAFOOD RESTAURANT
CATEGORIES:Events,Promos Restaurants
ATTACH;FMTTYPE=image/jpeg:https://marketsquaresj.com/wp-content/uploads/2021/11/262660880_4675343172531000_3999364391193024635_n.jpg
END:VEVENT
END:VCALENDAR