BEGIN:VCALENDAR
VERSION:2.0
PRODID:-//Market Square - ECPv6.15.20//NONSGML v1.0//EN
CALSCALE:GREGORIAN
METHOD:PUBLISH
X-ORIGINAL-URL:https://marketsquaresj.com
X-WR-CALDESC:Events for Market Square
REFRESH-INTERVAL;VALUE=DURATION:PT1H
X-Robots-Tag:noindex
X-PUBLISHED-TTL:PT1H
BEGIN:VTIMEZONE
TZID:America/Halifax
BEGIN:DAYLIGHT
TZOFFSETFROM:-0400
TZOFFSETTO:-0300
TZNAME:ADT
DTSTART:20230312T060000
END:DAYLIGHT
BEGIN:STANDARD
TZOFFSETFROM:-0300
TZOFFSETTO:-0400
TZNAME:AST
DTSTART:20231105T050000
END:STANDARD
BEGIN:DAYLIGHT
TZOFFSETFROM:-0400
TZOFFSETTO:-0300
TZNAME:ADT
DTSTART:20240310T060000
END:DAYLIGHT
BEGIN:STANDARD
TZOFFSETFROM:-0300
TZOFFSETTO:-0400
TZNAME:AST
DTSTART:20241103T050000
END:STANDARD
BEGIN:DAYLIGHT
TZOFFSETFROM:-0400
TZOFFSETTO:-0300
TZNAME:ADT
DTSTART:20250309T060000
END:DAYLIGHT
BEGIN:STANDARD
TZOFFSETFROM:-0300
TZOFFSETTO:-0400
TZNAME:AST
DTSTART:20251102T050000
END:STANDARD
BEGIN:DAYLIGHT
TZOFFSETFROM:-0400
TZOFFSETTO:-0300
TZNAME:ADT
DTSTART:20260308T060000
END:DAYLIGHT
BEGIN:STANDARD
TZOFFSETFROM:-0300
TZOFFSETTO:-0400
TZNAME:AST
DTSTART:20261101T050000
END:STANDARD
END:VTIMEZONE
BEGIN:VEVENT
DTSTART;TZID=America/Halifax:20250322T080000
DTEND;TZID=America/Halifax:20250322T160000
DTSTAMP:20260421T045359
CREATED:20250117T162233Z
LAST-MODIFIED:20250117T162233Z
UID:10038701-1742630400-1742659200@marketsquaresj.com
SUMMARY:Empowering Women in Business Conference
DESCRIPTION:EWB 2025 \nAttend the Empowering Women in Business 2025 Saint John conference to learn from fellow entrepreneurs and business leaders. Women G.R.O.W. (Growth\, Recovery\, Opportunity & Wealth) is this year’s theme. This is Atlantic Canada’s most important growth\, marketing\, and entrepreneurship event for women (or women-identifying) in business to learn\, network\, and discover tools to reach your full potential. \nThere will be:\n> WORLD-CLASS CANADIAN WOMEN LEADERS AS SPEAKERS\n> TWO DAYS\, 12 BREAKOUT SESSIONS\, 300+ ATTENDEES
URL:https://marketsquaresj.com/event/empowering-women-in-business-conference/2025-03-22/
LOCATION:ATRIUM
CATEGORIES:Events
END:VEVENT
BEGIN:VEVENT
DTSTART;TZID=America/Halifax:20250321T080000
DTEND;TZID=America/Halifax:20250321T160000
DTSTAMP:20260421T045359
CREATED:20250117T162233Z
LAST-MODIFIED:20250117T162233Z
UID:10038700-1742544000-1742572800@marketsquaresj.com
SUMMARY:Empowering Women in Business Conference
DESCRIPTION:EWB 2025 \nAttend the Empowering Women in Business 2025 Saint John conference to learn from fellow entrepreneurs and business leaders. Women G.R.O.W. (Growth\, Recovery\, Opportunity & Wealth) is this year’s theme. This is Atlantic Canada’s most important growth\, marketing\, and entrepreneurship event for women (or women-identifying) in business to learn\, network\, and discover tools to reach your full potential. \nThere will be:\n> WORLD-CLASS CANADIAN WOMEN LEADERS AS SPEAKERS\n> TWO DAYS\, 12 BREAKOUT SESSIONS\, 300+ ATTENDEES
URL:https://marketsquaresj.com/event/empowering-women-in-business-conference/2025-03-21/
LOCATION:ATRIUM
CATEGORIES:Events
END:VEVENT
BEGIN:VEVENT
DTSTART;TZID=America/Halifax:20241009T083000
DTEND;TZID=America/Halifax:20241009T123000
DTSTAMP:20260421T045359
CREATED:20241007T141045Z
LAST-MODIFIED:20241007T141116Z
UID:10038689-1728462600-1728477000@marketsquaresj.com
SUMMARY:Well Said: Health & Wellness Talk
DESCRIPTION:Don’t miss “Well Said”—a must-attend event where experts unveil strategies for attracting and keeping top healthcare talent! \nWell Said serves as a platform to inspire greater interest and enthusiasm in being part of New Brunswick’s healthcare landscape. As healthcare systems across Canada face staffing challenges\, we aim to foster a sense of belonging and commitment to the province’s evolving healthcare sector. \nWell Said attracts a diverse gathering of professionals from various fields within the health sector. Our event brings together government officials\, health innovators\, researchers\, entrepreneurs\, and visionaries across a wide range of sectors. \nLOCATION: Museum Theatre
URL:https://marketsquaresj.com/event/well-said-health-wellness-talk/
CATEGORIES:Events
ATTACH;FMTTYPE=image/png:https://marketsquaresj.com/wp-content/uploads/2024/10/Screenshot-2024-10-07-110845.png
END:VEVENT
END:VCALENDAR